BEGIN:VCALENDAR
VERSION:2.0
PRODID:-//ChamberMaster//Event Calendar 2.0//EN
METHOD:PUBLISH
X-PUBLISHED-TTL:P3D
REFRESH-INTERVAL:P3D
CALSCALE:GREGORIAN
BEGIN:VEVENT
DTSTART:20200312T230000Z
DTEND:20200313T003000Z
X-MICROSOFT-CDO-ALLDAYEVENT:FALSE
SUMMARY:World War II Novelists Jan Eliasberg and Kristin Harmel
DESCRIPTION:The Roth Family JCC is thrilled to welcome two visiting authors whose latest novels take the reader on immersive and inspiring journeys during World War II. In Hannah's War\, Jan Eliasberg tells a gripping cat-and-mouse tale of love\, war\, deception\, and espionage\, set against the backdrop of World War II. In detailing the journey of an extraordinary heroine inspired by a real-life female physicist\, Jan elevates the spy thriller with her clear\, fierce admiration for the women of the past who refused to be edged out of the world of scientific discovery. Kristin Harmel's The Winemaker's Wife is a stirring story set in France during the early 1940s as well present day\, told primarily from three different perspectives. The Winemaker's Wife is about life\, love\, loss\, deception\, determination\, perseverance\, resistance efforts\, intricacies of winemaking\, and the importance of forgiveness.
X-ALT-DESC;FMTTYPE=text/html:The Roth Family JCC is thrilled to welcome two visiting authors whose latest novels take the reader on immersive and inspiring journeys during World War II. In Hannah&rsquo\;s War\, Jan Eliasberg tells a gripping cat-and-mouse tale of love\, war\, deception\, and espionage\, set against the backdrop of World War II. In detailing the journey of an extraordinary heroine inspired by a real-life female physicist\, Jan elevates the spy thriller with her clear\, fierce admiration for the women of the past who refused to be edged out of the world of scientific discovery. Kristin Harmel&rsquo\;s The Winemaker&rsquo\;s Wife is a stirring story set in France during the early 1940s as well present day\, told primarily from three different perspectives. The Winemaker&rsquo\;s Wife is about life\, love\, loss\, deception\, determination\, perseverance\, resistance efforts\, intricacies of winemaking\, and the importance of forgiveness.
LOCATION:Roth Family JCC Auditorium 851 North Maitland Avenue Maitland\, 32751
UID:e.1857.6188
SEQUENCE:3
DTSTAMP:20260423T125254Z
URL:https://business.maitlandchamber.com/events/details/world-war-ii-novelists-jan-eliasberg-and-kristin-harmel-6188
END:VEVENT

END:VCALENDAR
