BEGIN:VCALENDAR
VERSION:2.0
PRODID:-//ChamberMaster//Event Calendar 2.0//EN
METHOD:PUBLISH
X-PUBLISHED-TTL:P3D
REFRESH-INTERVAL:P3D
CALSCALE:GREGORIAN
BEGIN:VEVENT
DTSTART:20190731T223000Z
DTEND:20190801T000000Z
X-MICROSOFT-CDO-ALLDAYEVENT:FALSE
SUMMARY:Wine and Wellness Party
DESCRIPTION:We live in a society that focuses too much on disease management and too little on wellness and preventative care. \n\n\n\nJoin us for an evening of Wine\, Wellness\, and Fun to learn how to reach and maintain your optimal health through an insightful\, solution-based discussion. \n\n\n\nArrive early for refreshments and to register for door prizes!
X-ALT-DESC;FMTTYPE=text/html:We live in a society that focuses too much on disease management and too little on wellness and preventative care.&nbsp\;<br />\n<br />\nJoin us for an evening of Wine\, Wellness\, and Fun to learn how to reach and maintain your optimal health through an insightful\, solution-based discussion.&nbsp\;<br />\n<br />\nArrive early for refreshments and to register for door prizes!
LOCATION:Your Infinite Wellness Center 235 South Maitland Ave Suite 218 Maitland\, Fl 32751
UID:e.1857.5230
SEQUENCE:3
DTSTAMP:20260424T030435Z
URL:https://business.maitlandchamber.com/events/details/wine-and-wellness-party-5230
END:VEVENT

END:VCALENDAR
