BEGIN:VCALENDAR
VERSION:2.0
PRODID:-//ChamberMaster//Event Calendar 2.0//EN
METHOD:PUBLISH
X-PUBLISHED-TTL:P3D
REFRESH-INTERVAL:P3D
CALSCALE:GREGORIAN
BEGIN:VEVENT
DTSTART:20200422T153000Z
DTEND:20200422T170000Z
X-MICROSOFT-CDO-ALLDAYEVENT:FALSE
SUMMARY:Wednesday Women Virtual Leads Group 2020
DESCRIPTION:Guest Speaker:\n\nWe are pleased to welcome Sargeant Catherine Nowling of the Criminal Investigation Division of the\n\nMaitland Police Department\n\nSargeant Nowling will be sharing with us about her role as a Sargeant and as a female Officer with the Police Department.\n\n\n\n \n\nThis Event Is Open To Business Women & Men\n\nCome Network With Others At\n\nThis Energetic Chamber Gathering\n\n\n\nAlways...We Welcome Visitors\n\nTo Attend Up To Two (2) Chamber Functions\n\nBefore We Ask That You Make The Decision\n\nTo Become A Fellow Chamber Member!
X-ALT-DESC;FMTTYPE=text/html:<h5 class="p1" style="box-sizing: border-box\; font-family: Questrial\, sans-serif\; line-height: 1.1\; color: rgb(68\, 68\, 68)\; margin-top: 0px\; margin-bottom: 0.5rem\; font-size: 14px\;">Guest Speaker:</h5>\n\n<h5>We are pleased to welcome Sargeant Catherine Nowling of the Criminal Investigation Division of the<br>\nMaitland Police Department</h5>\n\n<h5>Sargeant Nowling will be sharing with us about her role as a Sargeant and as a female Officer with the Police Department.<br>\n<br>\n&nbsp\;</h5>\n\n<h5 style="box-sizing: border-box\; font-family: Questrial\, sans-serif\; line-height: 1.1\; color: rgb(68\, 68\, 68)\; margin-top: 0px\; margin-bottom: 0.5rem\; font-size: 14px\; outline: 0px\;">This Event Is Open To Business Women &amp\; Men<br style="box-sizing: border-box\;">\nCome Network With Others&nbsp\;At<br style="box-sizing: border-box\;">\nThis Energetic Chamber Gathering<br style="box-sizing: border-box\;">\n<br style="box-sizing: border-box\;">\nAlways...We Welcome Visitors<br style="box-sizing: border-box\;">\nTo Attend Up To Two (2) Chamber Functions<br style="box-sizing: border-box\;">\nBefore We Ask That You Make The Decision<br style="box-sizing: border-box\;">\nTo Become A Fellow Chamber Member!</h5>\n
LOCATION:Virtual Zoom Meeting (details will be sent out prior to event)
UID:e.1857.5818
SEQUENCE:3
DTSTAMP:20260423T111224Z
URL:https://business.maitlandchamber.com/events/details/wednesday-women-virtual-leads-group-2020-5818
END:VEVENT

END:VCALENDAR
