BEGIN:VCALENDAR
VERSION:2.0
PRODID:-//ChamberMaster//Event Calendar 2.0//EN
METHOD:PUBLISH
X-PUBLISHED-TTL:P3D
REFRESH-INTERVAL:P3D
CALSCALE:GREGORIAN
BEGIN:VEVENT
DTSTART:20220525T153000Z
DTEND:20220525T163000Z
X-MICROSOFT-CDO-ALLDAYEVENT:FALSE
SUMMARY:Wednesday Women Leads Group 2022
DESCRIPTION:Guest Speaker: TBD\n\nTopic: The Real Estate Industry Today\n\n\n\nCaterer: TBD\n\n\n\n\n\n----------------------------------------------------------------\n\nThis Event Is Open To Business Women & Men\n\nCome Network With Others At\n\nThis Energetic Chamber Gathering\n\n\n\nAlways...We Welcome Visitors\n\nTo Attend Up To Two (2) Chamber Functions\n\nBefore We Ask That You Make The Decision\n\nTo Become A Fellow Chamber Member!\n\n\nSPACE IS LIMITED.\n\nPLEASE REGISTER EARLY!
X-ALT-DESC;FMTTYPE=text/html:<div class="p1" style="box-sizing: border-box\; font-family: Questrial\, sans-serif\; line-height: 1.1\; color: rgb(68\, 68\, 68)\; margin-top: 0px\; margin-bottom: 0.5rem\; font-size: 14px\;"><br />\n<strong>Guest Speaker: TBD</strong><br />\n<strong>Topic:</strong>&nbsp\;The Real Estate Industry Today<br />\n<br />\n<span id="m_1371079917259201564m_508771909460991424gmail-docs-internal-guid-07e734d0-7fff-8a1f-ebb2-8702ff9dd5b2"><span style="font-family: Calibri\, sans-serif\; background-color: transparent\; font-variant-numeric: normal\; font-variant-east-asian: normal\; vertical-align: baseline\; white-space: pre-wrap\;"><strong>Caterer: TBD</strong></span></span><br />\n<br />\n<br />\n----------------------------------------------------------------<br style="box-sizing: border-box\;" />\nThis Event Is Open To Business Women &amp\; Men<br style="box-sizing: border-box\;" />\nCome Network With Others&nbsp\;At<br style="box-sizing: border-box\;" />\nThis Energetic Chamber Gathering<br style="box-sizing: border-box\;" />\n<br style="box-sizing: border-box\;" />\nAlways...We Welcome Visitors<br style="box-sizing: border-box\;" />\nTo Attend Up To Two (2) Chamber Functions<br style="box-sizing: border-box\;" />\nBefore We Ask That You Make The Decision<br style="box-sizing: border-box\;" />\nTo Become A Fellow Chamber Member!</div>\n<br />\nSPACE IS LIMITED.<br />\nPLEASE REGISTER EARLY!<br />\n<br />\n&nbsp\;
LOCATION:400 S Orlando Ave #104\, Maitland\, FL 32751
UID:e.1857.6921
SEQUENCE:3
DTSTAMP:20260419T151203Z
URL:https://business.maitlandchamber.com/events/details/wednesday-women-leads-group-2022-05-25-2022-6921
END:VEVENT

END:VCALENDAR
