BEGIN:VCALENDAR
VERSION:2.0
PRODID:-//ChamberMaster//Event Calendar 2.0//EN
METHOD:PUBLISH
X-PUBLISHED-TTL:P3D
REFRESH-INTERVAL:P3D
CALSCALE:GREGORIAN
BEGIN:VEVENT
DTSTART:20210825T153000Z
DTEND:20210825T170000Z
X-MICROSOFT-CDO-ALLDAYEVENT:FALSE
SUMMARY:Wednesday Women Leads Group 2021
DESCRIPTION:Guest Speaker: Rachel Greenspan\n\nTopic: Memory Care\, Sandwich Generation and Providence Living!\n\n\nProvidence Living Executive Chef will be making lunch!\n\n \n\n\n----------------------------------------------------------------\n\nThis Event Is Open To Business Women & Men\n\nCome Network With Others At\n\nThis Energetic Chamber Gathering\n\n\n\nAlways...We Welcome Visitors\n\nTo Attend Up To Two (2) Chamber Functions\n\nBefore We Ask That You Make The Decision\n\nTo Become A Fellow Chamber Member!\n  \n\n\n\nSPACE IS LIMITED.\n\nPLEASE REGISTER EARLY!
X-ALT-DESC;FMTTYPE=text/html:<div class="p1" style="box-sizing: border-box\; font-family: Questrial\, sans-serif\; line-height: 1.1\; color: rgb(68\, 68\, 68)\; margin-top: 0px\; margin-bottom: 0.5rem\; font-size: 14px\;">&nbsp\;</div>\n\n<h5 class="p1" style="box-sizing: border-box\; font-family: Questrial\, sans-serif\; line-height: 1.1\; color: rgb(68\, 68\, 68)\; margin-top: 0px\; margin-bottom: 0.5rem\; font-size: 14px\;"><br />\n<strong>Guest Speaker: Rachel Greenspan</strong><br />\n<strong>Topic:</strong>&nbsp\;Memory Care\, Sandwich Generation and Providence Living!</h5>\n<br />\nProvidence Living Executive Chef will be making lunch!<br />\n&nbsp\;\n<h5 style="box-sizing: border-box\; font-family: Questrial\, sans-serif\; line-height: 1.1\; color: rgb(68\, 68\, 68)\; margin-top: 0px\; margin-bottom: 0.5rem\; font-size: 14px\; outline: 0px\;"><br />\n----------------------------------------------------------------<br style="box-sizing: border-box\;" />\nThis Event Is Open To Business Women &amp\; Men<br style="box-sizing: border-box\;" />\nCome Network With Others&nbsp\;At<br style="box-sizing: border-box\;" />\nThis Energetic Chamber Gathering<br style="box-sizing: border-box\;" />\n<br style="box-sizing: border-box\;" />\nAlways...We Welcome Visitors<br style="box-sizing: border-box\;" />\nTo Attend Up To Two (2) Chamber Functions<br style="box-sizing: border-box\;" />\nBefore We Ask That You Make The Decision<br style="box-sizing: border-box\;" />\nTo Become A Fellow Chamber Member!</h5>\n&nbsp\;&nbsp\;<br />\n<br />\nSPACE IS LIMITED.<br />\nPLEASE REGISTER EARLY!
LOCATION:
UID:e.1857.6543
SEQUENCE:3
DTSTAMP:20260420T051602Z
URL:https://business.maitlandchamber.com/events/details/wednesday-women-leads-group-2020-08-25-2021-6543
END:VEVENT

END:VCALENDAR
