BEGIN:VCALENDAR
VERSION:2.0
PRODID:-//ChamberMaster//Event Calendar 2.0//EN
METHOD:PUBLISH
X-PUBLISHED-TTL:P3D
REFRESH-INTERVAL:P3D
CALSCALE:GREGORIAN
BEGIN:VEVENT
DTSTART:20200317T230000Z
DTEND:20200318T003000Z
X-MICROSOFT-CDO-ALLDAYEVENT:FALSE
SUMMARY:Visiting Author: Marra B. Gad
DESCRIPTION:Come and listen to our visiting author\, Marra B. Gad about her book The Color Of Love. Marra has written an inspirational\, moving chronicle proving that when all else is stripped away\, love is where we return\, and love is always our greatest inheritance. This is a story about what you inherit from your family-identity\, disease\, melanin\, hate\, and most powerful of all\, love. Featuring:   Author presentation of book   Q&A   Book for sale and signing   Light refreshments
X-ALT-DESC;FMTTYPE=text/html:Come and listen to our visiting author\, Marra B. Gad about her book The Color Of Love. Marra has written an inspirational\, moving chronicle proving that when all else is stripped away\, love is where we return\, and love is always our greatest inheritance. This is a story about what you inherit from your family-identity\, disease\, melanin\, hate\, and most powerful of all\, love. Featuring: &bull\; Author presentation of book &bull\; Q&amp\;A &bull\; Book for sale and signing &bull\; Light refreshments
LOCATION:851 North Maitland Avenue Maitland\, 32751
UID:e.1857.6189
SEQUENCE:3
DTSTAMP:20260423T124453Z
URL:https://business.maitlandchamber.com/events/details/visiting-author-marra-b-gad-6189
END:VEVENT

END:VCALENDAR
