BEGIN:VCALENDAR
VERSION:2.0
PRODID:-//ChamberMaster//Event Calendar 2.0//EN
METHOD:PUBLISH
X-PUBLISHED-TTL:P3D
REFRESH-INTERVAL:P3D
CALSCALE:GREGORIAN
BEGIN:VEVENT
DTSTART:20210726T130000Z
DTEND:20210730T160000Z
X-MICROSOFT-CDO-ALLDAYEVENT:FALSE
SUMMARY:Vacation Bible School
DESCRIPTION:Vacation Bible School \n\nJuly 26th - 31st\n\nAges 4 years old thru 5th grade.\n\n \nAsbury's Rocky Railway\n\nJuly 26\, 2021   July 30\, 2021\n\n09:00 am   12:00 pm (EDT)\n\n220 W Horatio Ave\n\nMaitland\, FL 32751\n\nClimb aboard for mountains of fun at Rocky Railway! On this faith-filled adventure\, kids discover that trusting Jesus pulls them through life's ups and downs.\n\n\n\nKids ages 4-5th Grade are invited to participate. Middle School and High School Youth are invited to volunteer with the adults to make VBS even more fun for everyone.
X-ALT-DESC;FMTTYPE=text/html:<span style="font-size:12px\;"><span style="font-family:arial\;">Vacation Bible School&nbsp\;<br />\nJuly 26th - 31st<br />\nAges 4 years old thru 5th grade.</span></span><br />\n&nbsp\;\n<h1 class="title" style="box-sizing: inherit\; font-size: 2rem\; margin: 0px 0px 0.7em\; font-family: Lato\, -apple-system\, system-ui\, &quot\;Segoe UI&quot\;\, Roboto\, &quot\;Helvetica Neue&quot\;\, Arial\, sans-serif\; font-weight: 600\; line-height: 1.1\; color: rgb(255\, 255\, 255)\; text-transform: capitalize\; letter-spacing: 0.4px\; text-align: center\;"><span style="font-size:12px\;"><span style="font-family:arial\;"><span style="color:#000000\;">Asbury&#39\;s Rocky Railway</span></span></span></h1>\n\n<p class="date" style="box-sizing: inherit\; margin-top: 0px\; margin-bottom: 1rem\; color: rgb(255\, 255\, 255)\; font-size: 0.9rem\; font-family: Lato\, -apple-system\, system-ui\, &quot\;Segoe UI&quot\;\, Roboto\, &quot\;Helvetica Neue&quot\;\, Arial\, sans-serif\; letter-spacing: 0.4px\; text-align: center\;"><span style="font-size:12px\;"><span style="font-family:arial\;"><span style="color:#000000\;">July 26\, 2021 &mdash\; July 30\, 2021</span></span></span></p>\n\n<p class="date" style="box-sizing: inherit\; margin-top: 0px\; margin-bottom: 1rem\; color: rgb(255\, 255\, 255)\; font-size: 0.9rem\; font-family: Lato\, -apple-system\, system-ui\, &quot\;Segoe UI&quot\;\, Roboto\, &quot\;Helvetica Neue&quot\;\, Arial\, sans-serif\; letter-spacing: 0.4px\; text-align: center\;"><span style="font-size:12px\;"><span style="font-family:arial\;"><span style="color:#000000\;">09:00 am &mdash\; 12:00 pm (EDT)</span></span></span></p>\n\n<address class="date m-t-1" style="box-sizing: inherit\; margin-bottom: 1rem\; font-style: normal\; line-height: inherit\; color: rgb(255\, 255\, 255)\; font-size: 0.9rem\; font-family: Lato\, -apple-system\, system-ui\, &quot\;Segoe UI&quot\;\, Roboto\, &quot\;Helvetica Neue&quot\;\, Arial\, sans-serif\; letter-spacing: 0.4px\; text-align: center\; margin-top: 1rem !important\;"><span style="font-size:12px\;"><span style="font-family:arial\;"><span style="color:#000000\;">220 W Horatio Ave<br style="box-sizing: inherit\;" />\nMaitland\, FL 32751</span></span></span></address>\n\n<p class="description" style="box-sizing: inherit\; margin-top: 0px\; margin-bottom: 1rem\; color: rgb(9\, 78\, 123)\; font-family: Lato\, -apple-system\, system-ui\, &quot\;Segoe UI&quot\;\, Roboto\, &quot\;Helvetica Neue&quot\;\, Arial\, sans-serif\; font-size: 17.5px\; letter-spacing: 0.4px\; text-align: center\;"><span style="font-size:12px\;"><span style="font-family:arial\;">Climb aboard for mountains of fun at Rocky Railway! On this faith-filled adventure\, kids discover that trusting Jesus pulls them through life&rsquo\;s ups and downs.<br style="box-sizing: inherit\;" />\n<br style="box-sizing: inherit\;" />\nKids ages 4-5th Grade are invited to participate. Middle School and High School Youth are invited to volunteer with the adults to make VBS even more fun for everyone.</span></span></p>\n
LOCATION:
UID:e.1857.6723
SEQUENCE:3
DTSTAMP:20260420T065603Z
URL:https://business.maitlandchamber.com/events/details/vacation-bible-school-6723
END:VEVENT

END:VCALENDAR
