BEGIN:VCALENDAR
VERSION:2.0
PRODID:-//ChamberMaster//Event Calendar 2.0//EN
METHOD:PUBLISH
X-PUBLISHED-TTL:P3D
REFRESH-INTERVAL:P3D
CALSCALE:GREGORIAN
BEGIN:VEVENT
DTSTART:20190601T150000Z
DTEND:20190601T170000Z
X-MICROSOFT-CDO-ALLDAYEVENT:FALSE
SUMMARY:Men and Grief - Support Group for Bereaved Families
DESCRIPTION:TOPIC: Men and women grieve differently\, and this can create misunderstandings. We will explore ways in which grief affects us\, and healthy ways to release the pain. Refreshments will be served.\n\n\n\nThe meeting is held at the Maitland Public Library\, 501 South Maitland Avenue\, Maitland\, FL from 11 a.m. - 12:30 p.m.  We meet in the small conference room.  Seating is limited.  \n\n\n\nThis meeting is for bereaved parents and families.
X-ALT-DESC;FMTTYPE=text/html:<span style="background-color:rgb(255\, 255\, 255)\; color:rgb(29\, 33\, 41)\; font-family:inherit\; font-size:14px">TOPIC: Men and women grieve differently\, and this can create misunderstandings. We will explore ways in which grief affects us\, and healthy ways to release the pain. Refreshments will be served.<br />\n<br />\nThe meeting is held at the Maitland Public Library\, 501 South Maitland Avenue\, Maitland\, FL from 11 a.m. - 12:30 p.m.&nbsp\; We meet in the small conference room.&nbsp\; Seating is limited. &nbsp\;<br />\n<br />\nThis meeting is for bereaved parents and families.</span>
LOCATION:
UID:e.1857.5212
SEQUENCE:3
DTSTAMP:20260424T044408Z
URL:https://business.maitlandchamber.com/events/details/support-group-meeting-5212
END:VEVENT

END:VCALENDAR
