BEGIN:VCALENDAR
VERSION:2.0
PRODID:-//ChamberMaster//Event Calendar 2.0//EN
METHOD:PUBLISH
X-PUBLISHED-TTL:P3D
REFRESH-INTERVAL:P3D
CALSCALE:GREGORIAN
BEGIN:VEVENT
DTSTART:20190425T220000Z
DTEND:20190425T233000Z
X-MICROSOFT-CDO-ALLDAYEVENT:FALSE
SUMMARY:Stress Less Sleep More!
DESCRIPTION:When the craziness of everyday life takes a toll\, you may not know how to respond to the stressors and sleeping might be what you need the most\, but what you get the least.\n\nLet's change that! ??\n\nJoin Wellness Educator\, Jennifer Cosby and I to discover how to Stress Less Sleep More! on Thursday\, April 25 at 6PM at Artisan Kitchen & Bath Gallery.\n\n\nDuring this fun\, educational\, and interactive workshop you will gain tips and tools to reduce your stress and sleep better\, make your own sleepy time roller using Young Living Essential Oils\, enjoy light bites and beverages in tranquil atmosphere\, and even play a little BINGO.\n\nReserve your spot now\, seats are limited! See you there! :)\n\nhttps://www.progressivetrans4mation.com/upcoming-events/stress-less-sleep-more\n\n\n\n ??
X-ALT-DESC;FMTTYPE=text/html:<p>When the craziness of everyday life takes a toll\, you may not know how to respond to the stressors and sleeping might be what you need the most\, but what you get the least.</p>\n\n<p>Let&#39\;s change that!&nbsp\;<span style="font-family:inherit"><span style="color:transparent\; font-family:inherit\; font-size:16px">??</span></span></p>\n\n<p>Join Wellness Educator\,&nbsp\;<a class="profileLink" href="https://www.facebook.com/yljennifercosby?__tn__=K-R&amp\;eid=ARD6vYBrgB-d09erZYKj-VTcKiKhPEad2yq58q6kxQYLQZ_yC0f7TNxcZZQu0VuRgVCvJNSL8jsiG0TI&amp\;fref=mentions&amp\;__xts__%5B0%5D=68.ARB1_WJqQlJ72dqseoYmrjZQ6waI9j9rfC7Kx4ODoAEHk3hPw11RG0SHMKO_3JWvCZIIF7Nfr02DyTcLTG06pHhOPqZxtCSQ6kVhAt5aBgT0P8fdLD_l6XYB_8gvSO0pkRwMl_C3X8fzfw5V_7hRKLgalarh4D70oLDk6f3OgLRWekgM-N91roTLUgBt7ej8TRZoFkP8MRCVLVz0dOK1Ims1mwEi3woupQJSJ8xRyPDrupTj7T8lu87lo0Fxxb2ll8AAnqFl8DgMApYK7eaU8TXv8mfN9gihfbUfdTJvbEak_NStaZFSRxwsmTJ49acYhOt9RfKEQt8QFVp2hZ9Ll6w" style="color: rgb(54\, 88\, 153)\; cursor: pointer\; text-decoration-line: none\; font-family: inherit\;">Jennifer Cosby</a>&nbsp\;and I to discover how to&nbsp\;<a class="profileLink" href="https://www.facebook.com/events/2277204125936258/?acontext=%7B%22source%22%3A3%2C%22source_newsfeed_story_type%22%3A%22regular%22%2C%22action_history%22%3A%22%5B%7B%5C%22surface%5C%22%3A%5C%22newsfeed%5C%22%2C%5C%22mechanism%5C%22%3A%5C%22feed_story%5C%22%2C%5C%22extra_data%5C%22%3A%5B%5D%7D%5D%22%2C%22has_source%22%3Atrue%7D&amp\;source=3&amp\;source_newsfeed_story_type=regular&amp\;action_history=%5B%7B%22surface%22%3A%22newsfeed%22%2C%22mechanism%22%3A%22feed_story%22%2C%22extra_data%22%3A%5B%5D%7D%5D&amp\;has_source=1&amp\;__tn__=K-R&amp\;eid=ARC6XuVD26dTnNc-3dCT2ThsTp_s8W9_pof8I5-wnAWO_uwiZ-xalCyk7-JwVONTBROjlmIG79hCW3ou&amp\;fref=mentions&amp\;__xts__%5B0%5D=68.ARB1_WJqQlJ72dqseoYmrjZQ6waI9j9rfC7Kx4ODoAEHk3hPw11RG0SHMKO_3JWvCZIIF7Nfr02DyTcLTG06pHhOPqZxtCSQ6kVhAt5aBgT0P8fdLD_l6XYB_8gvSO0pkRwMl_C3X8fzfw5V_7hRKLgalarh4D70oLDk6f3OgLRWekgM-N91roTLUgBt7ej8TRZoFkP8MRCVLVz0dOK1Ims1mwEi3woupQJSJ8xRyPDrupTj7T8lu87lo0Fxxb2ll8AAnqFl8DgMApYK7eaU8TXv8mfN9gihfbUfdTJvbEak_NStaZFSRxwsmTJ49acYhOt9RfKEQt8QFVp2hZ9Ll6w" style="color: rgb(54\, 88\, 153)\; cursor: pointer\; text-decoration-line: none\; font-family: inherit\;">Stress Less Sleep More!</a>&nbsp\;on Thursday\, April 25 at 6PM at&nbsp\;<a class="profileLink" href="https://www.facebook.com/artisankbgallery/?__tn__=K-R&amp\;eid=ARDXex8TCEW4sTqCDZfivSINKoGL2q5rHknH2DVxw3WFEceRbPO1nx1NGhLvTieWwFCYim_vBeZOrOYF&amp\;fref=mentions&amp\;__xts__%5B0%5D=68.ARB1_WJqQlJ72dqseoYmrjZQ6waI9j9rfC7Kx4ODoAEHk3hPw11RG0SHMKO_3JWvCZIIF7Nfr02DyTcLTG06pHhOPqZxtCSQ6kVhAt5aBgT0P8fdLD_l6XYB_8gvSO0pkRwMl_C3X8fzfw5V_7hRKLgalarh4D70oLDk6f3OgLRWekgM-N91roTLUgBt7ej8TRZoFkP8MRCVLVz0dOK1Ims1mwEi3woupQJSJ8xRyPDrupTj7T8lu87lo0Fxxb2ll8AAnqFl8DgMApYK7eaU8TXv8mfN9gihfbUfdTJvbEak_NStaZFSRxwsmTJ49acYhOt9RfKEQt8QFVp2hZ9Ll6w" style="color: rgb(54\, 88\, 153)\; cursor: pointer\; text-decoration-line: none\; font-family: inherit\;">Artisan Kitchen &amp\; Bath Gallery</a>.</p>\n\n<div>\n<p>During this fun\, educational\, and interactive workshop you will gain tips and tools to reduce your stress and sleep better\, make your own sleepy time roller using Young Living Essential Oils\, enjoy light bites and beverages in tranquil atmosphere\, and even play a little BINGO.</p>\n\n<p>Reserve your spot now\, seats are limited! See you there! :)<br />\n<a href="https://www.progressivetrans4mation.com/upcoming-events/stress-less-sleep-more">https://www.progressivetrans4mation.com/upcoming-events/stress-less-sleep-more</a><br />\n<br />\n&nbsp\;<span style="font-family:inherit"><span style="color:transparent\; font-family:inherit\; font-size:16px">??</span></span></p>\n</div>\n\n<p style="margin-left:0px\; margin-right:0px"><br />\n&nbsp\;</p>\n
LOCATION:Artisan Kitchen & Bath Gallery 784 N Orange Ave #106\, Winter Park\, FL 32789
UID:e.1857.5208
SEQUENCE:3
DTSTAMP:20260424T075823Z
URL:https://business.maitlandchamber.com/events/details/stress-less-sleep-more-5208
END:VEVENT

END:VCALENDAR
