BEGIN:VCALENDAR
VERSION:2.0
PRODID:-//ChamberMaster//Event Calendar 2.0//EN
METHOD:PUBLISH
X-PUBLISHED-TTL:P3D
REFRESH-INTERVAL:P3D
CALSCALE:GREGORIAN
BEGIN:VEVENT
DTSTART:20200312T190000Z
DTEND:20200312T210000Z
X-MICROSOFT-CDO-ALLDAYEVENT:FALSE
SUMMARY:St Patrick's Day Party
DESCRIPTION:St Patrick's Day Party
X-ALT-DESC;FMTTYPE=text/html:St Patrick&#39\;s Day Party
LOCATION:Strive Senior Living
UID:e.1857.6220
SEQUENCE:3
DTSTAMP:20260423T124452Z
URL:https://business.maitlandchamber.com/events/details/st-patrick-s-day-party-6220
END:VEVENT

END:VCALENDAR
