BEGIN:VCALENDAR
VERSION:2.0
PRODID:-//ChamberMaster//Event Calendar 2.0//EN
METHOD:PUBLISH
X-PUBLISHED-TTL:P3D
REFRESH-INTERVAL:P3D
CALSCALE:GREGORIAN
BEGIN:VEVENT
DTSTART:20200229T170000Z
DTEND:20200229T210000Z
X-MICROSOFT-CDO-ALLDAYEVENT:FALSE
SUMMARY:Shop for a Cause with Lilly Pulitzer in support of Susan G. Komen Florida
DESCRIPTION:Join Lilly Pulitzer at all three Central Florida stores as we shop to support Susan G. Komen MORE THAN PINK Orlando. Bring your friends and enjoy sips and sweets as you shop the latest Spring arrivals. 10% of all proceeds will be donated to Susan G. Komen Florida.
X-ALT-DESC;FMTTYPE=text/html:Join Lilly Pulitzer at all three Central Florida stores as we shop to support Susan G. Komen MORE THAN PINK Orlando. Bring your friends and enjoy sips and sweets as you shop the latest Spring arrivals. 10% of all proceeds will be donated to Susan G. Komen Florida.
LOCATION:Lilly Pulitzer - Mall at Millenia 4200 Conroy Rd e127 Orlando\, FL 32839 Lilly Pulitzer - Disney Springs 1520 E Buena Vista Drive Lake Buena Vista\, FL 32830 Lilly Pulitzer 114-118 N Park Ave Winter Park\, FL 32789
UID:e.1857.6217
SEQUENCE:3
DTSTAMP:20260423T145400Z
URL:https://business.maitlandchamber.com/events/details/shop-for-a-cause-with-lilly-pulitzer-in-support-of-susan-g-komen-florida-6217
END:VEVENT

END:VCALENDAR
