BEGIN:VCALENDAR
VERSION:2.0
PRODID:-//ChamberMaster//Event Calendar 2.0//EN
METHOD:PUBLISH
X-PUBLISHED-TTL:P3D
REFRESH-INTERVAL:P3D
CALSCALE:GREGORIAN
BEGIN:VEVENT
DTSTART:20200119T180000Z
DTEND:20200119T210000Z
X-MICROSOFT-CDO-ALLDAYEVENT:FALSE
SUMMARY:See Clearly with your 2020 Vision Board
DESCRIPTION:A fun filled Workshop that will set your year up for success. \n\nDon't keep your vision out of site \n\nMake Sure You Are Seeing 2020 This Year!?\n\nJoin us in creating your 2020 Vision Board ?\n\nSunday\, January 19th  1pm-4pm\n\nVision Board Class ~ All Material Included
X-ALT-DESC;FMTTYPE=text/html:<p style="text-align:center"><span style="color:rgb(36\, 41\, 45)\; font-family:open sans\,sans-serif\; font-size:14px">A fun filled Workshop that will set your year up for success.&nbsp\;</span><br />\nDon&rsquo\;t keep your vision out of site&hellip\;</p>\n\n<p style="text-align:center">Make Sure You Are Seeing 2020 This Year!?</p>\n\n<p style="text-align:center">Join us in creating your 2020 Vision Board ?</p>\n\n<p style="text-align:center">Sunday\, January 19th&nbsp\; 1pm-4pm</p>\n\n<p style="text-align:center">Vision Board Class ~ All Material Included</p>\n
LOCATION:YOUR INFINITE WELLNESS CENTER 235 S. Maitland Ave. Suite 218 Maitland\, Fl 32751
UID:e.1857.5832
SEQUENCE:3
DTSTAMP:20260423T163813Z
URL:https://business.maitlandchamber.com/events/details/see-clearly-with-your-2020-vision-board-5832
END:VEVENT

END:VCALENDAR
