BEGIN:VCALENDAR
VERSION:2.0
PRODID:-//ChamberMaster//Event Calendar 2.0//EN
METHOD:PUBLISH
X-PUBLISHED-TTL:P3D
REFRESH-INTERVAL:P3D
CALSCALE:GREGORIAN
BEGIN:VEVENT
DTSTART:20210909T160000Z
DTEND:20210909T171500Z
X-MICROSOFT-CDO-ALLDAYEVENT:FALSE
SUMMARY:Second Thursday Free Hot Dogs by the Lake
DESCRIPTION:Join us for free hot dogs the second Thursday of each month by our lakeside chapel!
X-ALT-DESC;FMTTYPE=text/html:Join us for free hot dogs the second Thursday of each month by our lakeside chapel!
LOCATION:
UID:e.1857.6570
SEQUENCE:3
DTSTAMP:20260420T033232Z
URL:https://business.maitlandchamber.com/events/details/second-thursday-free-hot-dogs-by-the-lake-09-09-2021-6570
END:VEVENT

END:VCALENDAR
