BEGIN:VCALENDAR
VERSION:2.0
PRODID:-//ChamberMaster//Event Calendar 2.0//EN
METHOD:PUBLISH
X-PUBLISHED-TTL:P3D
REFRESH-INTERVAL:P3D
CALSCALE:GREGORIAN
BEGIN:VEVENT
DTSTART:20190516T213000Z
DTEND:20190516T233000Z
X-MICROSOFT-CDO-ALLDAYEVENT:FALSE
SUMMARY:Salt Therapy Grand Opening
DESCRIPTION:It is with great joy that we announce the launch of our much anticipated Dry Salt Therapy Booth! \n\n\n\nSalt Zen is now here at the Maitland Wellness Center! As the first facility in Maitland to offer Salt Therapy\, we are looking forward to sharing all the amazing health benefits of salt therapy at our Grand Opening Celebration on May 16th from 5:30 - 7:30 pm. \n\n\n\nJoin us to experience mini salt therapy sessions\, door prizes\, refreshments and more!\n\n\n\nSee you there!
X-ALT-DESC;FMTTYPE=text/html:<span style="background-color:rgb(255\, 255\, 255)\; color:rgb(29\, 33\, 41)\; font-family:helvetica\,arial\,sans-serif\; font-size:14px">It is with great joy that we announce the launch of our much anticipated Dry Salt Therapy Booth! </span><br />\n<br />\n<span style="background-color:rgb(255\, 255\, 255)\; color:rgb(29\, 33\, 41)\; font-family:helvetica\,arial\,sans-serif\; font-size:14px">Salt Zen is now here at the Maitland Wellness Center! As the first facility in Maitland to offer Salt Therapy\, we are looking forward to sharing all the amazing health benefits of salt therapy at our Grand Opening Celebration on May 16th from 5:30 - 7:30 pm. </span><br />\n<br />\n<span style="background-color:rgb(255\, 255\, 255)\; color:rgb(29\, 33\, 41)\; font-family:helvetica\,arial\,sans-serif\; font-size:14px">Join us to experience mini salt therapy sessions\, door prizes\, refreshments and more!</span><br />\n<br />\n<span style="background-color:rgb(255\, 255\, 255)\; color:rgb(29\, 33\, 41)\; font-family:helvetica\,arial\,sans-serif\; font-size:14px">See you there!</span>
LOCATION:Maitland Wellness Center 237 Lookout Place Maitland FL 32751 407-335-4994
UID:e.1857.5214
SEQUENCE:3
DTSTAMP:20260424T063043Z
URL:https://business.maitlandchamber.com/events/details/salt-therapy-grand-opening-5214
END:VEVENT

END:VCALENDAR
