BEGIN:VCALENDAR
VERSION:2.0
PRODID:-//ChamberMaster//Event Calendar 2.0//EN
METHOD:PUBLISH
X-PUBLISHED-TTL:P3D
REFRESH-INTERVAL:P3D
CALSCALE:GREGORIAN
BEGIN:VEVENT
DTSTART;VALUE=DATE:20200710
DTEND;VALUE=DATE:20200802
TRANSP:TRANSPARENT
X-MICROSOFT-CDO-ALLDAYEVENT:TRUE
SUMMARY:SNEAK PEEK OF RENOVATION AT COURTYARD ORLANDO ALTAMONTE SPRINGS/MAITLAND
DESCRIPTION:The Courtyard Orlando Altamonte Springs/Maitland will soon have a fully renovated property for you!  As early as July 20th\, we will have our first renovated floor available.\n\nIf you are looking for a quick getaway\, remember that as a Chamber Member you have a 15% off from our best available rate.  Call us at 407.659.9100
X-ALT-DESC;FMTTYPE=text/html:The Courtyard Orlando Altamonte Springs/Maitland will soon have a fully renovated property for you!&nbsp\; As early as July 20th\, we will have our first renovated floor available.<br />\nIf you are looking for a quick getaway\, remember that as a Chamber Member you have a 15% off from our best available rate.&nbsp\; Call us at 407.659.9100
LOCATION:
UID:e.1857.6239
SEQUENCE:3
DTSTAMP:20260423T054106Z
URL:https://business.maitlandchamber.com/events/details/renovation-at-courtyard-orlando-altamonte-springs-maitland-6239
END:VEVENT

END:VCALENDAR
