BEGIN:VCALENDAR
VERSION:2.0
PRODID:-//ChamberMaster//Event Calendar 2.0//EN
METHOD:PUBLISH
X-PUBLISHED-TTL:P3D
REFRESH-INTERVAL:P3D
CALSCALE:GREGORIAN
BEGIN:VEVENT
DTSTART:20190803T150000Z
DTEND:20190803T170000Z
X-MICROSOFT-CDO-ALLDAYEVENT:FALSE
SUMMARY:RELEASE GRIEF AND STRESS WITH EXPRESSIVE ART
DESCRIPTION:When we experience loss\, of any kind\, it's not uncommon to feel intense emotions that are often difficult to express. Art has the ability to help us see life and our problems from a different perspective.\n\nYou don't need to be an artist to benefit from Expressive Art. The techniques we use can help you understand and express your emotions\, reduce stress and emotional pain\, increase self-awareness and intuition. Expressive Art can also help you identify patterns and beliefs that interfere with your ability to feel at peace.\n\nAt this workshop\, participants will learn the basics of color\, symbols and affirmations to express\, understand and release emotions in a way that verbal communication is sometimes incapable of.\n\nThis workshop is for anyone who has experienced the loss of a loved one.\n\nInstructor: Estrella Tinch\n\nwww.fromgrieftohope.org
X-ALT-DESC;FMTTYPE=text/html:<p style="text-align:left">When we experience loss\, of any kind\, it&#39\;s not uncommon to feel intense emotions that are often difficult to express. Art has the ability to help us see life and our problems from a different perspective.</p>\n\n<p style="text-align:left">You don&#39\;t need to be an artist to benefit from Expressive Art. The techniques we use can help you understand and express your emotions\, reduce stress and emotional pain\, increase self-awareness and intuition. Expressive Art can also help you identify patterns and beliefs that interfere with your ability to feel at peace.</p>\n\n<p style="text-align:left">At this workshop\, participants will learn the basics of color\, symbols and affirmations to express\, understand and release emotions in a way that verbal communication is sometimes incapable of.</p>\n\n<p style="text-align:left"><span style="font-size:14px"><strong>This workshop is for anyone who has experienced the loss of a loved one.</strong></span></p>\n\n<p style="text-align:left">Instructor: Estrella Tinch<br />\nwww.fromgrieftohope.org</p>\n\n<p style="text-align:left">&nbsp\;</p>\n<br />\n<span style="background-color:rgb(255\, 255\, 255)\; color:rgb(111\, 114\, 135)\; font-family:neue plak\,-apple-system\,blinkmacsystemfont\,roboto\,helvetica neue\,helvetica\,tahoma\,arial\,sans-serif\; font-size:14.86px">&nbsp\;</span><br />\n&nbsp\;
LOCATION:Maitland Public Library\, 501 Maitland Avenue S.\, Maitland\, FL Large Community Room
UID:e.1857.5222
SEQUENCE:3
DTSTAMP:20260424T011617Z
URL:https://business.maitlandchamber.com/events/details/release-grief-and-stress-with-expressive-art-5222
END:VEVENT

END:VCALENDAR
