BEGIN:VCALENDAR
VERSION:2.0
PRODID:-//ChamberMaster//Event Calendar 2.0//EN
METHOD:PUBLISH
X-PUBLISHED-TTL:P3D
REFRESH-INTERVAL:P3D
CALSCALE:GREGORIAN
BEGIN:VEVENT
DTSTART;VALUE=DATE:20190405
DTEND;VALUE=DATE:20190406
TRANSP:TRANSPARENT
X-MICROSOFT-CDO-ALLDAYEVENT:TRUE
SUMMARY:PNC GREAT BIG BOOK DRIVE
DESCRIPTION:GREAT BIG BOOK DRIVE\n\nAPRIL 4TH THROUGH APRIL 30TH
X-ALT-DESC;FMTTYPE=text/html:<strong><span style="letter-spacing:-1.15pt\;"><span style="color:#F58025\;"><span style="font-family:pnc sans\;"><span style="font-size:16.5pt\;">GREAT BIG BOOK DRIVE<br />\nAPRIL 4TH THROUGH APRIL 30TH</span></span></span></span></strong>
LOCATION:PNC Grow Up Great book drive will be held from April 4th to April 30th. Our employees\, customers and communities will play a tangible role in helping young children succeed. All PNC Bank branch locations will collect donations of new and gently used books for children from birth to age 5. The books will be distributed to local PNC Grow Up Great partners that offer high quality early learning opportunities\, particularly for children in underserved communities.
UID:e.1857.5207
SEQUENCE:3
DTSTAMP:20260424T080647Z
URL:https://business.maitlandchamber.com/events/details/pnc-great-big-book-drive-5207
END:VEVENT

END:VCALENDAR
