BEGIN:VCALENDAR
VERSION:2.0
PRODID:-//ChamberMaster//Event Calendar 2.0//EN
METHOD:PUBLISH
X-PUBLISHED-TTL:P3D
REFRESH-INTERVAL:P3D
CALSCALE:GREGORIAN
BEGIN:VEVENT
DTSTART:20200209T180000Z
DTEND:20200209T210000Z
X-MICROSOFT-CDO-ALLDAYEVENT:FALSE
SUMMARY:NextStep Orlando Scholarship Fundraiser
DESCRIPTION:On Sunday\, February 9th\, 2020 a Charity Benefit for the Samantha Slusak Scholarship at NextStep Orlando will be held at Teak Neighborhood Grill in Maitland\, Florida. \n\nThe Sam Slusak Scholarship Fund was established to honor the memory of Samantha Slusak who suffered a C3/4 spinal cord injury during a gymnastics practice in New Port Richey\, Florida that left her paralyzed from the neck down. Sam became one of our first clients and unfortunately passed away too early in life.  In 2014 her family created the Samantha Slusak Scholarship Fund for paralyzed individuals who are financially burdened and unable to attend NextStep Orlando's Recovery Program.
X-ALT-DESC;FMTTYPE=text/html:On<strong><span style="font-family:calibri\,sans-serif"> Sunday\, February 9th\, 2020</span></strong> a Charity Benefit for the Samantha Slusak Scholarship at NextStep Orlando will be held at <strong><span style="font-family:calibri\,sans-serif">Teak Neighborhood Grill in Maitland\, Florida</span></strong>.&nbsp\;<br />\nThe <strong><em><span style="font-family:calibri\,sans-serif">Sam Slusak Scholarship Fund </span></em></strong>was established to honor the memory of Samantha Slusak who suffered a C3/4 spinal cord injury during a gymnastics practice in New Port Richey\, Florida that left her paralyzed from the neck down. Sam became one of our first clients and unfortunately passed away too early in life.&nbsp\; In 2014 her family created the <strong><em><span style="font-family:calibri\,sans-serif">Samantha Slusak Scholarship Fund</span></em></strong> for paralyzed individuals who are financially burdened and unable to attend NextStep Orlando&rsquo\;s Recovery Program.<br />\n<br />\n<br />\n&nbsp\;
LOCATION:Teak Neighborhood Grill 901 S Orlando Ave Maitland\, FL 32751
UID:e.1857.5828
SEQUENCE:3
DTSTAMP:20260423T143717Z
URL:https://business.maitlandchamber.com/events/details/nextstep-orlando-scholarship-fundraiser-5828
END:VEVENT

END:VCALENDAR
