BEGIN:VCALENDAR
VERSION:2.0
PRODID:-//ChamberMaster//Event Calendar 2.0//EN
METHOD:PUBLISH
X-PUBLISHED-TTL:P3D
REFRESH-INTERVAL:P3D
CALSCALE:GREGORIAN
BEGIN:VEVENT
DTSTART:20190509T220000Z
DTEND:20190510T020000Z
X-MICROSOFT-CDO-ALLDAYEVENT:FALSE
SUMMARY:Movers and Shakers
DESCRIPTION:RDV MOVERS AND SHAKERS\n\nRDV Sportsplex\n\n\n\nThis group fitness cocktail party blends fitness\, food and philanthropy. Attendees 21+ work up a sweat in one of eight group fitness classes\, then enjoy craft drinks and top menu items from Orlando's best restaurants. All proceeds benefit Orlando Union Rescue Mission.\n\nDoors open at 6 p.m. and tickets are $55/single\, $100/couple.
X-ALT-DESC;FMTTYPE=text/html:<strong><span style="color:#002060">RDV MOVERS AND SHAKERS</span></strong><br />\n<em><span style="color:#002060">RDV Sportsplex</span></em><br />\n<br />\n<span style="color:#002060">This group fitness cocktail party blends fitness\, food and philanthropy. Attendees 21+ work up a sweat in one of eight group fitness classes\, then enjoy craft drinks and top menu items from Orlando&rsquo\;s best restaurants. All proceeds benefit Orlando Union Rescue Mission.</span><br />\n<span style="color:#002060">Doors open at 6 p.m. and tickets are $55/single\, $100/couple.</span>
LOCATION:RDV Sportsplex 8701 Maitland Summit Blvd Orlando\, FL 32810
UID:e.1857.5205
SEQUENCE:3
DTSTAMP:20260424T063012Z
URL:https://business.maitlandchamber.com/events/details/movers-and-shakers-5205
END:VEVENT

END:VCALENDAR
