BEGIN:VCALENDAR
VERSION:2.0
PRODID:-//ChamberMaster//Event Calendar 2.0//EN
METHOD:PUBLISH
X-PUBLISHED-TTL:P3D
REFRESH-INTERVAL:P3D
CALSCALE:GREGORIAN
BEGIN:VEVENT
DTSTART:20220518T130000Z
DTEND:20220518T141500Z
X-MICROSOFT-CDO-ALLDAYEVENT:FALSE
SUMMARY:Member Orientation
DESCRIPTION:Maitland Chamber Members\,\n\n\n\nJoin us for a new member orientation where we can meet other Maitland Chamber Members and other new members. This is is open to all chamber members who want to learn more about how to get started with the chamber.\n\n\n\nSome topics of discussion:\n\n- Introduction to Staff\, Board Members\, and Ambassador Committee members\n\n- Accessing your chamber profile on the Maitland Chamber website\n\n- Discussing events\, Facebook groups\, and other digital members benefits\n\n- Introduction on how you can get more involved\n\n- Answer any questions about your new membership
X-ALT-DESC;FMTTYPE=text/html:Maitland Chamber Members\,<br />\n<br />\nJoin us for a new member orientation where we can meet other Maitland Chamber Members and other new members. This is is open to all chamber members who want to learn more about how to get started with the chamber.<br />\n<br />\nSome topics of discussion:<br />\n- Introduction to Staff\, Board Members\, and Ambassador Committee members<br />\n- Accessing your chamber profile on the Maitland Chamber website<br />\n- Discussing events\, Facebook groups\, and other digital members benefits<br />\n- Introduction on how you can get more involved<br />\n- Answer any questions about your new membership<br />\n<br />\n&nbsp\;
LOCATION:In Person! Maitland Area Chamber of Commerce 500 N. Maitland Avenue\, Suite 100 Maitland\, FL 32751 (407) 644-0741 RSVP - KellieP@maitlandchamber.com
UID:e.1857.6782
SEQUENCE:3
DTSTAMP:20260419T132609Z
URL:https://business.maitlandchamber.com/events/details/member-orientation-05-18-2022-6782
END:VEVENT

END:VCALENDAR
