BEGIN:VCALENDAR
VERSION:2.0
PRODID:-//ChamberMaster//Event Calendar 2.0//EN
METHOD:PUBLISH
X-PUBLISHED-TTL:P3D
REFRESH-INTERVAL:P3D
CALSCALE:GREGORIAN
BEGIN:VEVENT
DTSTART:20170425T213000Z
DTEND:20170425T223000Z
X-MICROSOFT-CDO-ALLDAYEVENT:FALSE
SUMMARY:"Member Happening!" - Veteran's Benefits Seminar
DESCRIPTION:Marc Albritton\, President of Veteran's Eldercare Consulting will be discussing topics pertaining to eligibility and financial assistance for senior care.\n\nRefreshments will be served.
X-ALT-DESC;FMTTYPE=text/html:Marc Albritton\, President of Veteran&#39\;s Eldercare Consulting will be discussing topics pertaining to eligibility and financial assistance for senior care.<br />\nRefreshments will be served.
LOCATION:Savannah Court of Maitland 1301 West Maitland Boulevard
UID:e.1857.4265
SEQUENCE:3
DTSTAMP:20260426T031709Z
URL:https://business.maitlandchamber.com/events/details/member-happening-veteran-s-benefits-seminar-4265
END:VEVENT

END:VCALENDAR
