BEGIN:VCALENDAR
VERSION:2.0
PRODID:-//ChamberMaster//Event Calendar 2.0//EN
METHOD:PUBLISH
X-PUBLISHED-TTL:P3D
REFRESH-INTERVAL:P3D
CALSCALE:GREGORIAN
BEGIN:VEVENT
DTSTART:20170423T130000Z
DTEND:20170423T150000Z
X-MICROSOFT-CDO-ALLDAYEVENT:FALSE
SUMMARY:"Member Happening!"- Try Ice Hockey for FREE
DESCRIPTION:Youth ages 4-12 are invited to Try Ice Hockey for FREE at RDV Sportsplex Ice Den! No skating experience necessary!
X-ALT-DESC;FMTTYPE=text/html:Youth ages 4-12 are invited to Try Ice Hockey for FREE at RDV Sportsplex Ice Den! No skating experience necessary!
LOCATION:RDV Sportsplex Ice Den 8701 Maitland Summit Blvd. Orlando\, FL 32810
UID:e.1857.4260
SEQUENCE:3
DTSTAMP:20260426T031750Z
URL:https://business.maitlandchamber.com/events/details/member-happening-try-ice-hockey-for-free-4260
END:VEVENT

END:VCALENDAR
