BEGIN:VCALENDAR
VERSION:2.0
PRODID:-//ChamberMaster//Event Calendar 2.0//EN
METHOD:PUBLISH
X-PUBLISHED-TTL:P3D
REFRESH-INTERVAL:P3D
CALSCALE:GREGORIAN
BEGIN:VEVENT
DTSTART:20181023T230000Z
DTEND:20181024T010000Z
X-MICROSOFT-CDO-ALLDAYEVENT:FALSE
SUMMARY:"Member Happening!" - Tax Cuts and Jobs Act Overview for Individuals and Business Owners
DESCRIPTION:A complimentary\, informational workshop designed to discuss how the tax laws may allow individuals and business owners to save income taxes. In addition to how the estate and gift tax changes may provide you with a window of opportunity for additional planning to maximize the assets you pass to your heirs. You will also learn how the new income tax brackets will impact individuals and how to have a conversation with your tax advisor about these changes. \n\n\n\nPresented By: Mark T. Jansen\, JD\, CPA\, CLU\, ChFC Advanced Planning Consultant Christopher S. Hansen Life Product Consultant\n\nDate: Tuesday\, October 23rd\, 2018\n\nPlace: Citrus Club 255 S Orange Ave #1800\, Orlando\, FL 32801 Time: 7:00pm - 9:00pm\n\nPlease contact New York Life Representative Alicia Gopi to RSVP at 518-817-0314 or agopi@ft.newyorklife.com
X-ALT-DESC;FMTTYPE=text/html:<br />\n<span style="font-family:arial\;"><span style="font-size: 14px\;">A complimentary\, informational workshop designed to discuss how the tax laws may allow individuals and business owners to save income taxes. In addition to how the estate and gift tax changes may provide you with a window of opportunity for additional planning to maximize the assets you pass to your heirs. You will also learn how the new income tax brackets will impact individuals and how to have a conversation with your tax advisor about these changes. </span><br />\n<br />\n<span style="font-size: 14px\;">Presented By: Mark T. Jansen\, JD\, CPA\, CLU\, ChFC Advanced Planning Consultant Christopher S. Hansen Life Product Consultant<br />\nDate: Tuesday\, October 23rd\, 2018<br />\nPlace: Citrus Club 255 S Orange Ave #1800\, Orlando\, FL 32801 Time: 7:00pm - 9:00pm<br />\nPlease contact New York Life Representative Alicia Gopi to RSVP at 518-817-0314 or </span><a font-size:="" helvetica="" href="mailto:agopi@ft.newyorklife.com" segoe="" style="box-sizing: border-box\; background-color: transparent\; color: rgb(0\, 117\, 161)\; text-decoration: none\; font-family: system-ui\, -apple-system\, BlinkMacSystemFont\, HelveticaNeue\, " white-space:="">agopi@ft.newyorklife.com</a></span><br />\n&nbsp\;
LOCATION:Citrus Club 255 S. Orange Ave. Suite #1800 Orlando\, FL 32801 Time: 7:00pm - 9:00pm
UID:e.1857.4665
SEQUENCE:3
DTSTAMP:20260424T184720Z
URL:https://business.maitlandchamber.com/events/details/member-happening-tax-cuts-and-jobs-act-overview-for-individuals-and-business-owners-4665
END:VEVENT

END:VCALENDAR
