BEGIN:VCALENDAR
VERSION:2.0
PRODID:-//ChamberMaster//Event Calendar 2.0//EN
METHOD:PUBLISH
X-PUBLISHED-TTL:P3D
REFRESH-INTERVAL:P3D
CALSCALE:GREGORIAN
BEGIN:VEVENT
DTSTART:20170506T210000Z
DTEND:20170507T210000Z
X-MICROSOFT-CDO-ALLDAYEVENT:FALSE
SUMMARY:"Member Happening!"- Spring Spectacular On Ice!
DESCRIPTION:Our annual spring ice show features skaters of all ages and skill levels! Performances begin at 5:00 PM both Saturday\, May 6 and Sunday\, May 7.
X-ALT-DESC;FMTTYPE=text/html:Our annual spring ice show features skaters of all ages and skill levels! Performances begin at 5:00 PM&nbsp\;both Saturday\, May 6 and Sunday\, May 7.
LOCATION:RDV Sportsplex Ice Den 8701 Maitland Summit Blvd. Orlando\, FL 32810
UID:e.1857.4261
SEQUENCE:3
DTSTAMP:20260426T013108Z
URL:https://business.maitlandchamber.com/events/details/member-happening-spring-spectacular-on-ice-4261
END:VEVENT

END:VCALENDAR
