BEGIN:VCALENDAR
VERSION:2.0
PRODID:-//ChamberMaster//Event Calendar 2.0//EN
METHOD:PUBLISH
X-PUBLISHED-TTL:P3D
REFRESH-INTERVAL:P3D
CALSCALE:GREGORIAN
BEGIN:VEVENT
DTSTART:20180503T220000Z
DTEND:20180503T230000Z
X-MICROSOFT-CDO-ALLDAYEVENT:FALSE
SUMMARY:"Member Happening!" - Sip N' Snack: FIESTA!!!!
DESCRIPTION:Come Join us for a FIESTA featuring your favorite Cinco De Mayo Snacks and a Margarita! These healthy alternatives are so delicious you'll forget they're healthy! Seating begins at 5:30 pm\; Fiesta begins at 6 pm!
X-ALT-DESC;FMTTYPE=text/html:Come Join us for a FIESTA featuring your favorite Cinco De Mayo Snacks and a Margarita! These healthy alternatives are so delicious you&#39\;ll forget they&#39\;re healthy! Seating begins at 5:30 pm\; Fiesta begins at 6 pm!
LOCATION:Whole Family Healthcare 1201 Louisiana Ave.\, Ste. E Winter Park\, FL 32789
UID:e.1857.4421
SEQUENCE:3
DTSTAMP:20260425T035826Z
URL:https://business.maitlandchamber.com/events/details/member-happening-sip-n-snack-fiesta-4421
END:VEVENT

END:VCALENDAR
