BEGIN:VCALENDAR
VERSION:2.0
PRODID:-//ChamberMaster//Event Calendar 2.0//EN
METHOD:PUBLISH
X-PUBLISHED-TTL:P3D
REFRESH-INTERVAL:P3D
CALSCALE:GREGORIAN
BEGIN:VEVENT
DTSTART:20170518T220000Z
DTEND:20170519T000000Z
X-MICROSOFT-CDO-ALLDAYEVENT:FALSE
SUMMARY:"Member Happening!" - Retirement Seminar for Florida Retirement System Participants
DESCRIPTION:Free discussion and presentation exclusively for Florida Retirement System Participants to talk about the challenges you face as you navigate toward retirement. Registration is required for catered event. Please contact Alicia Gopi at 518-817-0314 via call/text or agopi@ft.newyorklife.com to confirm attendance.
X-ALT-DESC;FMTTYPE=text/html:Free discussion and presentation exclusively for Florida Retirement System Participants to talk about the challenges you face as you navigate toward retirement. Registration is required for catered event. Please contact Alicia Gopi at 518-817-0314 via call/text or agopi@ft.newyorklife.com to confirm attendance.&nbsp\;
LOCATION:Cocina 214 151 E Welbourne Ave Winter Park\, FL 32789
UID:e.1857.4267
SEQUENCE:3
DTSTAMP:20260426T013117Z
URL:https://business.maitlandchamber.com/events/details/member-happening-retirement-seminar-for-florida-retirement-system-participants-4267
END:VEVENT

END:VCALENDAR
