BEGIN:VCALENDAR
VERSION:2.0
PRODID:-//ChamberMaster//Event Calendar 2.0//EN
METHOD:PUBLISH
X-PUBLISHED-TTL:P3D
REFRESH-INTERVAL:P3D
CALSCALE:GREGORIAN
BEGIN:VEVENT
DTSTART:20170921T220000Z
DTEND:20170922T000000Z
X-MICROSOFT-CDO-ALLDAYEVENT:FALSE
SUMMARY:"Member Happening!" - Retirement Seminar for Florida Retirement Participants
DESCRIPTION:Retirement Seminar for Florida Retirement System Participants (Teachers\, Firefighters\, Sheriffs\, County officials\, anyone else in FRS) Thu\, September 21st\, 6:00 PM - 8:00 PM Cocina 214\, East Welbourne Avenue\, Winter Park\, FL New York Life provides a free discussion and presentation about the challenges you face as you navigate the road toward retirement. Registration required for catered event. Please contact Alicia Gopi at 518-817-0314 via text/call or agopi@ft.newyorklife.com to confirm attendance.
X-ALT-DESC;FMTTYPE=text/html:<div>&nbsp\;</div>\n\n<div><span style="font-family:helveticaneue\,helvetica neue\,helvetica\,roboto\,segoe ui\,arial\,sans-serif\; font-size:14px">Retirement Seminar for Florida Retirement System Participants (Teachers\, Firefighters\, Sheriffs\, County officials\, anyone else in FRS) Thu\, September 21st\, 6:00 PM - 8:00 PM Cocina 214\, East Welbourne Avenue\, Winter Park\, FL New York Life provides a free discussion and presentation about the challenges you face as you navigate the road toward retirement. Registration required for catered event. Please contact Alicia Gopi at 518-817-0314 via text/call or </span><a href="mailto:agopi@ft.newyorklife.com" style="box-sizing: border-box\; background-color: transparent\; color: rgb(0\, 117\, 161)\; text-decoration: none\; font-family: HelveticaNeue\, 'Helvetica Neue'\, Helvetica\, Roboto\, 'Segoe UI'\, Arial\, sans-serif\; font-size: 14px\; white-space: pre-wrap\;">agopi@ft.newyorklife.com</a><span style="font-family:helveticaneue\,helvetica neue\,helvetica\,roboto\,segoe ui\,arial\,sans-serif\; font-size:14px"> to confirm attendance.</span></div>\n
LOCATION:
UID:e.1857.4283
SEQUENCE:3
DTSTAMP:20260425T181653Z
URL:https://business.maitlandchamber.com/events/details/member-happening-retirement-seminar-for-florida-retirement-participants-4283
END:VEVENT

END:VCALENDAR
