BEGIN:VCALENDAR
VERSION:2.0
PRODID:-//ChamberMaster//Event Calendar 2.0//EN
METHOD:PUBLISH
X-PUBLISHED-TTL:P3D
REFRESH-INTERVAL:P3D
CALSCALE:GREGORIAN
BEGIN:VEVENT
DTSTART:20180506T111500Z
DTEND:20180506T173000Z
X-MICROSOFT-CDO-ALLDAYEVENT:FALSE
SUMMARY:"Member Happening!" - Pavilion Golf Society Golf Tournament
DESCRIPTION:Mimosa Breakfast\n\nGolf Tournament\n\nGames\n\nRaffles\n\nPrizes\n\nLunch\n\nHonoree
X-ALT-DESC;FMTTYPE=text/html:Mimosa Breakfast<br />\nGolf Tournament<br />\nGames<br />\nRaffles<br />\nPrizes<br />\nLunch<br />\nHonoree<br />\n&nbsp\;
LOCATION:Rosen Shingle Creek Golf Club in Oralndo
UID:e.1857.4409
SEQUENCE:3
DTSTAMP:20260425T035826Z
URL:https://business.maitlandchamber.com/events/details/member-happening-pavilion-golf-society-golf-tournament-4409
END:VEVENT

END:VCALENDAR
