BEGIN:VCALENDAR
VERSION:2.0
PRODID:-//ChamberMaster//Event Calendar 2.0//EN
METHOD:PUBLISH
X-PUBLISHED-TTL:P3D
REFRESH-INTERVAL:P3D
CALSCALE:GREGORIAN
BEGIN:VEVENT
DTSTART:20171026T220000Z
DTEND:20171027T000000Z
X-MICROSOFT-CDO-ALLDAYEVENT:FALSE
SUMMARY:"Member Happening!" - OPEN HOUSE - WHOLE FAMILY HEALTHCARE
DESCRIPTION:Whole Family Healthcare invites you to a night of fun! Come chat with our amazing team of physicians and learn more about our incredible array of services while sipping on wine and munching on delicious hors d'oeuvres. You may even win one of our amazing prizes!
X-ALT-DESC;FMTTYPE=text/html:Whole Family Healthcare invites you to a night of fun! Come chat with our amazing team of physicians and learn more about our incredible array of services while sipping on wine and munching on delicious hors d&#39\;oeuvres. You may even win one of our amazing prizes!
LOCATION:Whole Family Healthcare 1201 Louisiana Avenue\, Suite E Winter Park\, FL 32789
UID:e.1857.4299
SEQUENCE:3
DTSTAMP:20260425T163536Z
URL:https://business.maitlandchamber.com/events/details/member-happening-open-house-whole-family-healthcare-4299
END:VEVENT

END:VCALENDAR
