BEGIN:VCALENDAR
VERSION:2.0
PRODID:-//ChamberMaster//Event Calendar 2.0//EN
METHOD:PUBLISH
X-PUBLISHED-TTL:P3D
REFRESH-INTERVAL:P3D
CALSCALE:GREGORIAN
BEGIN:VEVENT
DTSTART:20180525T130000Z
DTEND:20180525T200000Z
X-MICROSOFT-CDO-ALLDAYEVENT:FALSE
SUMMARY:"Member Happening!" - Member Appreciation Day! - Gulf States Credit Union
DESCRIPTION:Mark your calendars for our Member Appreciation Day on May 25th! Gulf States Credit Union would like to thank our members for many years of loyalty and for letting us serve you. We will be serving coffee and doughnuts from 9-11 a.m.\, then hot dogs and snacks from 12-4 p.m. We will provide goodie bags and conduct a free raffle. You could win a gift basket full of prizes valued up to $50! This is a free event for members only that will take place in our parking lot. Bring your kids for a fun time! The event will be filmed from 12-3. Looking forward to seeing you there!
X-ALT-DESC;FMTTYPE=text/html:Mark your calendars for our Member Appreciation Day on May 25th! <a href="http://www.gulfstatescu.org">Gulf States Credit Union</a> would like to thank our members for many years of loyalty and for letting us serve you. We will be serving coffee and doughnuts from 9-11 a.m.\, then hot dogs and snacks from 12-4 p.m. We will provide goodie bags and conduct a free raffle. You could win a gift basket full of prizes valued up to $50! This is a free event for members only that will take place in our parking lot. Bring your kids for a fun time! The event will be filmed from 12-3. Looking forward to seeing you there!
LOCATION:Gulf States Credit Union 9405 S. Highway 17-92 Maitland\, FL 32751
UID:e.1857.4428
SEQUENCE:3
DTSTAMP:20260425T035752Z
URL:https://business.maitlandchamber.com/events/details/member-happening-member-appreciation-day-gulf-states-credit-union-4428
END:VEVENT

END:VCALENDAR
