BEGIN:VCALENDAR
VERSION:2.0
PRODID:-//ChamberMaster//Event Calendar 2.0//EN
METHOD:PUBLISH
X-PUBLISHED-TTL:P3D
REFRESH-INTERVAL:P3D
CALSCALE:GREGORIAN
BEGIN:VEVENT
DTSTART:20170613T220000Z
DTEND:20170613T224500Z
X-MICROSOFT-CDO-ALLDAYEVENT:FALSE
SUMMARY:"Member Happening!" - Learn to Skate Summer Session
DESCRIPTION:This 8-week session of Learn to Skate includes 30 minutes of group ice skating lessons followed by 15 minutes of supervised practice time. The summer session begins on June 13\, 14 and July 1.
X-ALT-DESC;FMTTYPE=text/html:This 8-week session of Learn to Skate includes 30 minutes of group ice skating lessons followed by 15 minutes of supervised practice time. The summer session begins on June 13\, 14 and July 1.
LOCATION:RDV Sportsplex Ice Den 8701 Maitland Summit Blvd. Orlando\, FL 32810
UID:e.1857.4264
SEQUENCE:3
DTSTAMP:20260425T233906Z
URL:https://business.maitlandchamber.com/events/details/member-happening-learn-to-skate-summer-session-4264
END:VEVENT

END:VCALENDAR
