BEGIN:VCALENDAR
VERSION:2.0
PRODID:-//ChamberMaster//Event Calendar 2.0//EN
METHOD:PUBLISH
X-PUBLISHED-TTL:P3D
REFRESH-INTERVAL:P3D
CALSCALE:GREGORIAN
BEGIN:VEVENT
DTSTART:20171020T220000Z
DTEND:20171021T010000Z
X-MICROSOFT-CDO-ALLDAYEVENT:FALSE
SUMMARY:"Member Happening!" - Haunted Art Center Tours
DESCRIPTION:Join us for a paranormal tour of the A&H's Maitland Art Center campus. Hear ghost stories and be guided around "one of the most haunted spots in Central Florida" (according to the Orlando Weekly).\nOn this tour\, you will hear the history and ghost stories of the facility from its staff and students.  The Maitland Art Center\, originally named the Research Studio\, was built by artist J. Andr  Smith during the final years of his life\, from 1937-1959. The high walls of the center were created to keep curious minds from encroaching on Smith's territory during his life\, before being officially opened to the public many years after his death. A&H staff still feel the presence of Andr  58 years later\, keeping an eye on the grounds and letting it be known when he is not happy.\n\nTOUR DETAILS:\n\n\n	Tour times every thirty minutes from 6:00pm   9:00pm.\n	Most of the tour will be conducted outdoors\, so please wear comfortable walking shoes and proper clothing.\n	We ask that groups with children keep in mind that this tour will be conducted at night where the center will be very dark with lots of dark corners and paths.\n	Please feel welcome to bring any cameras or paranormal research tools with you\; we do ask that camera operators be mindful of the disruption of flash on the tour. A&H tour guides will provide flashlights to visitors.
X-ALT-DESC;FMTTYPE=text/html:<strong>Join us for a paranormal tour of the A&amp\;H&rsquo\;s Maitland Art Center campus. Hear ghost stories and be guided around &ldquo\;one of the most haunted spots in Central Florida&rdquo\; <a href="http://photos.orlandoweekly.com/36-truly-haunted-places-in-the-orlando-area/?slide=20&amp\;maitland-art-center-wikimedia">(according to the Orlando Weekly)</a>.</strong>\n<p>On this tour\, you will hear the history and ghost stories of the facility from its staff and students.&nbsp\; The Maitland Art Center\, originally named the Research Studio\, was built by artist J. Andr&eacute\;&nbsp\;Smith during the final years of his life\, from 1937-1959. The high walls of the center were created to keep curious minds from encroaching on Smith&rsquo\;s territory during his life\, before being officially opened to the public many years after his death. A&amp\;H staff still feel the presence of Andr&eacute\; 58 years later\, keeping an eye on the grounds and letting it be known when he is not happy.</p>\n\n<p>TOUR DETAILS:</p>\n\n<ul>\n	<li>Tour times every thirty minutes from 6:00pm &ndash\; 9:00pm.</li>\n	<li>Most of the tour will be conducted outdoors\, so please wear comfortable walking shoes and proper clothing.</li>\n	<li>We ask that groups with children keep in mind that this tour will be conducted at night where the center will be very dark with lots of dark corners and paths.</li>\n	<li>Please feel welcome to bring any cameras or paranormal research tools with you\; we do ask that camera operators be mindful of the disruption of flash on the tour. A&amp\;H tour guides will provide flashlights to visitors.</li>\n</ul>\n
LOCATION:Art & History Museums - Maitland 231 W. Packwood Ave Maitland\, FL 32751
UID:e.1857.4295
SEQUENCE:3
DTSTAMP:20260425T163531Z
URL:https://business.maitlandchamber.com/events/details/member-happening-haunted-art-center-tours-4295
END:VEVENT

END:VCALENDAR
