BEGIN:VCALENDAR
VERSION:2.0
PRODID:-//ChamberMaster//Event Calendar 2.0//EN
METHOD:PUBLISH
X-PUBLISHED-TTL:P3D
REFRESH-INTERVAL:P3D
CALSCALE:GREGORIAN
BEGIN:VEVENT
DTSTART:20170415T141500Z
DTEND:20170415T180000Z
X-MICROSOFT-CDO-ALLDAYEVENT:FALSE
SUMMARY:"Member Happening!"- Girls Only Try Hockey for FREE!
DESCRIPTION:Girls ages 4-12 are welcome to try ice hockey for FREE at RDV Sportsplex Ice Den! After Try Hockey\, participants are invited to stay for a free barbeque lunch\, watch our all-girls house league teams play in a half-ice jamboree and check out the Tampa Bay Lightning's Ball Hockey Demo until from 12:30-2:00pm.
X-ALT-DESC;FMTTYPE=text/html:Girls ages 4-12 are welcome to try ice hockey for FREE at RDV Sportsplex Ice Den! After Try Hockey\, participants are invited to stay for a free barbeque lunch\, watch our all-girls house league teams play in a half-ice jamboree and check out the Tampa Bay Lightning&#39\;s Ball Hockey Demo until from 12:30-2:00pm.
LOCATION:RDV Sportsplex Ice Den 8701 Maitland Summit Blvd. Orlando\, FL 32810
UID:e.1857.4259
SEQUENCE:3
DTSTAMP:20260426T031838Z
URL:https://business.maitlandchamber.com/events/details/member-happening-girls-only-try-hockey-for-free-4259
END:VEVENT

END:VCALENDAR
