BEGIN:VCALENDAR
VERSION:2.0
PRODID:-//ChamberMaster//Event Calendar 2.0//EN
METHOD:PUBLISH
X-PUBLISHED-TTL:P3D
REFRESH-INTERVAL:P3D
CALSCALE:GREGORIAN
BEGIN:VEVENT
DTSTART:20170615T220000Z
DTEND:20170616T000000Z
X-MICROSOFT-CDO-ALLDAYEVENT:FALSE
SUMMARY:"Member Happening!" - Florida Retirement System Participants
DESCRIPTION:New York Life provides a free discussion\n\nand presentation about the challenges you face\n\nas you navigate the road toward retirement.\n\n\n\nRegistration required for catered event.\n\n\n\nTo RSVP\, please contact Alicia Gopi at 518-817-0314 via text/call\n\nor Email to AGopi@FT.NewYorkLife.com to confirm attendance.
X-ALT-DESC;FMTTYPE=text/html:<h4 style="text-align: center\;"><br />\n<strong><span style="font-size:14px\;"><span style="font-size:16px\;">New York Life provides a free discussion<br />\nand presentation about the challenges you face<br />\nas you navigate the road toward retirement.<br />\n<br />\nRegistration required for catered event.<br />\n<br />\nTo RSVP\, please contact Alicia Gopi at 518-817-0314 via text/call<br />\nor Email to&nbsp\;AGopi@FT.NewYorkLife.com to confirm attendance.</span></span></strong></h4>\n
LOCATION:Cocina 214 151 E Welbourne Avenue Winter Park\, FL 32789
UID:e.1857.4270
SEQUENCE:3
DTSTAMP:20260425T233907Z
URL:https://business.maitlandchamber.com/events/details/member-happening-florida-retirement-system-participants-4270
END:VEVENT

END:VCALENDAR
