BEGIN:VCALENDAR
VERSION:2.0
PRODID:-//ChamberMaster//Event Calendar 2.0//EN
METHOD:PUBLISH
X-PUBLISHED-TTL:P3D
REFRESH-INTERVAL:P3D
CALSCALE:GREGORIAN
BEGIN:VEVENT
DTSTART:20180502T220000Z
DTEND:20180503T010000Z
X-MICROSOFT-CDO-ALLDAYEVENT:FALSE
SUMMARY:"Member Happening!" - Culture Pop! opening Enchanted Florida
DESCRIPTION:Not your typical exhibition opening\, Culture Pop! is Central Florida's original interactive art happening. This event will feature:\n\n\n	Preview Enchanted Florida exhibition\n	Q&A with the artists\n	"Elemental Arts" activity for kids & adults\n	Pop-up exhibition by A&H's Artists-in-Action\n	Live music by The Moss Park Trio\n	Experimental sound performance in the Ixchel Song Garden\n	Light bites and cash bar with wine & craft beer\n\n\nAdmission: free for A&H members\; $7 for Not-Yet-Members in advance\; $10 at the door. Click here to purchase your tickets \n\nAbout the exhibition\, on view May 2 to August 26: The Enchanted Florida exhibition in A&H's Maitland Art Center presents paintings\, photographs\, and video art by Florida artists whose works show that they search and long for pristine nature\, only to encounter a changing landscape blighted by urban and suburban developments. Featured artists include Lilian Garcia-Roig\, Bruce Marsh\, Alexander Diaz\, and Corey George. They represent Florida's land- and seascape\, inspired by their real experiences\, as well as through the historical lens of early twentieth-century renditions of untouched tropical nature. Their evocative works provide an opportunity to contemplate upon the impacts of human intervention on nature.
X-ALT-DESC;FMTTYPE=text/html:<div>\n<p>Not your typical exhibition opening\, <strong>Culture Pop!</strong> is Central Florida&rsquo\;s original interactive art happening. This event will feature:</p>\n\n<ul>\n	<li>Preview <em>Enchanted Florida</em> exhibition</li>\n	<li>Q&amp\;A with the artists</li>\n	<li>&ldquo\;Elemental Arts&rdquo\; activity for kids &amp\; adults</li>\n	<li>Pop-up exhibition by A&amp\;H&rsquo\;s Artists-in-Action</li>\n	<li>Live music by The Moss Park Trio</li>\n	<li>Experimental sound performance in the Ixchel Song Garden</li>\n	<li>Light bites and cash bar with wine &amp\; craft beer</li>\n</ul>\n\n<p><strong>Admission: free for A&amp\;H members\; $7 for Not-Yet-Members in advance\; $10 at the door. <a href="https://artandhistory.secure.force.com/ticket/#sections_a0F1H00000Clm9cUAB">Click here to purchase your tickets&nbsp\;</a></strong></p>\n\n<p>About the exhibition\, on view May 2 to August 26: The <em>Enchanted Florida</em> exhibition in A&amp\;H&rsquo\;s Maitland Art Center presents paintings\, photographs\, and video art by Florida artists whose works show that they search and long for pristine nature\, only to encounter a changing landscape blighted&nbsp\;by urban and suburban developments. Featured artists include Lilian Garcia-Roig\, Bruce&nbsp\;Marsh\, Alexander Diaz\, and Corey George.&nbsp\;They&nbsp\;represent Florida&rsquo\;s land- and seascape\, inspired by their real experiences\, as well as through the historical lens of early twentieth-century renditions of untouched tropical nature. Their evocative works provide an opportunity to contemplate upon the impacts of human&nbsp\;intervention&nbsp\;on nature.</p>\n</div>\n
LOCATION:Art & History Museums Maitland 231 W. Packwood Ave Maitland\, FL 32751
UID:e.1857.4422
SEQUENCE:3
DTSTAMP:20260425T035636Z
URL:https://business.maitlandchamber.com/events/details/member-happening-culture-pop-opening-enchanted-florida-4422
END:VEVENT

END:VCALENDAR
