BEGIN:VCALENDAR
VERSION:2.0
PRODID:-//ChamberMaster//Event Calendar 2.0//EN
METHOD:PUBLISH
X-PUBLISHED-TTL:P3D
REFRESH-INTERVAL:P3D
CALSCALE:GREGORIAN
BEGIN:VEVENT
DTSTART:20171006T220000Z
DTEND:20171007T010000Z
X-MICROSOFT-CDO-ALLDAYEVENT:FALSE
SUMMARY:"Member Happening!" - Culture Pop! Drawing the Unseen
DESCRIPTION:Join us at our first Culture Pop! of the 2017-18 Season on October 6\, featuring:\n\n\n	Preview Drawing the Unseen exhibition\n	View pop-up exhibition by 2017-18 Artists-in-Action\n	Surrealist drawing activity: Exquisite Corpse\n	Literary readings by local writers\n	Live jazz by Eastside Combo\n	Open Art School studios\n	Light bites by Puff ?n Stuff Catering\n	Cash bar with fine wine & craft beer
X-ALT-DESC;FMTTYPE=text/html:<p><strong>Join us at our first <a href="http://artandhistory.org/culture-pop">Culture Pop!</a> of the 2017-18 Season on October 6\, featuring:</strong></p>\n\n<ul>\n	<li>Preview <em><strong>Drawing the Unseen</strong></em> exhibition</li>\n	<li>View pop-up exhibition by 2017-18 Artists-in-Action</li>\n	<li>Surrealist drawing activity: Exquisite Corpse</li>\n	<li>Literary readings by local writers</li>\n	<li>Live jazz by Eastside Combo</li>\n	<li>Open Art School studios</li>\n	<li>Light bites by <a href="http://puffnstuff.com/">Puff ?n Stuff Catering</a></li>\n	<li>Cash bar with fine wine &amp\; craft beer</li>\n</ul>\n
LOCATION:Art & History Museums Maitland 231. W. Packwood Ave Maitland\, FL 32751
UID:e.1857.4294
SEQUENCE:3
DTSTAMP:20260425T163530Z
URL:https://business.maitlandchamber.com/events/details/member-happening-culture-pop-drawing-the-unseen-4294
END:VEVENT

END:VCALENDAR
