BEGIN:VCALENDAR
VERSION:2.0
PRODID:-//ChamberMaster//Event Calendar 2.0//EN
METHOD:PUBLISH
X-PUBLISHED-TTL:P3D
REFRESH-INTERVAL:P3D
CALSCALE:GREGORIAN
BEGIN:VEVENT
DTSTART:20170402T123000Z
DTEND:20170402T170000Z
X-MICROSOFT-CDO-ALLDAYEVENT:FALSE
SUMMARY:"Member Happening!" - Annual Golf Classic Presented by The Roth Family JCC
DESCRIPTION:Experience one of Orlando's premier golf courses while supporting the The Roth Family JCC's Marvin & Bonnie Friedman Children's Scholarship Fund\, which provides financial assistance for individuals and families in need to attend the J.
X-ALT-DESC;FMTTYPE=text/html:Experience one of Orlando&rsquo\;s premier golf courses while supporting the The Roth Family JCC&rsquo\;s Marvin &amp\; Bonnie Friedman Children&rsquo\;s Scholarship Fund\, which provides financial assistance for individuals and families in need to attend the J.
LOCATION:Dubsdread Golf Course 549 W. Par Street\, Orlando\, FL 32804
UID:e.1857.3981
SEQUENCE:3
DTSTAMP:20260426T031832Z
URL:https://business.maitlandchamber.com/events/details/member-happening-annual-golf-classic-presented-by-the-roth-family-jcc-3981
END:VEVENT

END:VCALENDAR
