BEGIN:VCALENDAR
VERSION:2.0
PRODID:-//ChamberMaster//Event Calendar 2.0//EN
METHOD:PUBLISH
X-PUBLISHED-TTL:P3D
REFRESH-INTERVAL:P3D
CALSCALE:GREGORIAN
BEGIN:VEVENT
DTSTART:20190502T200000Z
DTEND:20190502T220000Z
X-MICROSOFT-CDO-ALLDAYEVENT:FALSE
SUMMARY:Meet the New Executive Director and Health Administrator
DESCRIPTION:
X-ALT-DESC;FMTTYPE=text/html:
LOCATION:
UID:e.1857.5210
SEQUENCE:3
DTSTAMP:20260424T063633Z
URL:https://business.maitlandchamber.com/events/details/meet-the-new-executive-director-and-health-administrator-5210
END:VEVENT

END:VCALENDAR
