BEGIN:VCALENDAR
VERSION:2.0
PRODID:-//ChamberMaster//Event Calendar 2.0//EN
METHOD:PUBLISH
X-PUBLISHED-TTL:P3D
REFRESH-INTERVAL:P3D
CALSCALE:GREGORIAN
BEGIN:VEVENT
DTSTART:20191003T130000Z
DTEND:20191003T140000Z
X-MICROSOFT-CDO-ALLDAYEVENT:FALSE
SUMMARY:Marketing Committee Meeting 2019
DESCRIPTION:Meets 1st Thursday Monthly
X-ALT-DESC;FMTTYPE=text/html:<h3 style="text-align: center\;"><br />\n<strong>Meets 1st Thursday Monthly</strong></h3>\n
LOCATION:1051 Winderley Place\, Suite 307 Maitland\, FL 32751
UID:e.1857.4752
SEQUENCE:3
DTSTAMP:20260423T214925Z
URL:https://business.maitlandchamber.com/events/details/marketing-committee-meeting-2019-10-03-2019-4752
END:VEVENT

END:VCALENDAR
