BEGIN:VCALENDAR
VERSION:2.0
PRODID:-//ChamberMaster//Event Calendar 2.0//EN
METHOD:PUBLISH
X-PUBLISHED-TTL:P3D
REFRESH-INTERVAL:P3D
CALSCALE:GREGORIAN
BEGIN:VEVENT
DTSTART:20181206T140000Z
DTEND:20181206T150000Z
X-MICROSOFT-CDO-ALLDAYEVENT:FALSE
SUMMARY:Marketing Committee Meeting 2018
DESCRIPTION:Meets 1st Thursday Monthly
X-ALT-DESC;FMTTYPE=text/html:<h3 style="text-align: center\;"><br />\n<strong>Meets 1st Thursday Monthly</strong></h3>\n
LOCATION:Chamber Office 110 N. Maitland Avenue Maitland\, FL 32751
UID:e.1857.4344
SEQUENCE:3
DTSTAMP:20260424T150838Z
URL:https://business.maitlandchamber.com/events/details/marketing-committee-meeting-2017-12-06-2018-4344
END:VEVENT

END:VCALENDAR
