BEGIN:VCALENDAR
VERSION:2.0
PRODID:-//ChamberMaster//Event Calendar 2.0//EN
METHOD:PUBLISH
X-PUBLISHED-TTL:P3D
REFRESH-INTERVAL:P3D
CALSCALE:GREGORIAN
BEGIN:VEVENT
DTSTART:20180711T130000Z
DTEND:20180711T140000Z
X-MICROSOFT-CDO-ALLDAYEVENT:FALSE
SUMMARY:Marketing Committee Meeting 2018
DESCRIPTION:THIS IS A ONE-TIME DATE CHANGE\n\nDUE TO THE JULY 4th HOLIDAY\n\nTHE JULY COMMITTEE MEETING\n\nWILL BE HELD ON\n\nWEDNESDAY\, JULY 11\, 2018\n\n9:00 AM - 10:00 AM\n\n \n\nMeets 1st Thursday Monthly
X-ALT-DESC;FMTTYPE=text/html:<h4 style="text-align: center\;"><br />\n<br />\n<strong><span style="color:#FF0000\;"><span style="font-size:18px\;">THIS IS A ONE-TIME DATE CHANGE<br />\nDUE TO THE JULY 4th HOLIDAY</span></span></strong></h4>\n\n<h4 style="text-align: center\;"><span style="font-size:18px\;"><span style="color:#FF0000\;"><strong>THE JULY COMMITTEE MEETING<br />\nWILL BE HELD ON<br />\nWEDNESDAY\, JULY 11\, 2018</strong></span><br />\n<strong><span style="color:#FF0000\;">9:00 AM - 10:00 AM</span></strong></span><br />\n&nbsp\;</h4>\n\n<h4 style="text-align: center\;"><span style="font-size:14px\;"><strong>Meets 1st Thursday Monthly</strong></span></h4>\n
LOCATION:Chamber Office 110 N. Maitland Avenue Maitland\, FL 32751
UID:e.1857.4339
SEQUENCE:3
DTSTAMP:20260425T002403Z
URL:https://business.maitlandchamber.com/events/details/marketing-committee-meeting-2017-07-05-2018-4339
END:VEVENT

END:VCALENDAR
