BEGIN:VCALENDAR
VERSION:2.0
PRODID:-//ChamberMaster//Event Calendar 2.0//EN
METHOD:PUBLISH
X-PUBLISHED-TTL:P3D
REFRESH-INTERVAL:P3D
CALSCALE:GREGORIAN
BEGIN:VEVENT
DTSTART:20200124T180000Z
DTEND:20200124T210000Z
X-MICROSOFT-CDO-ALLDAYEVENT:FALSE
SUMMARY:Manifesting Clients Hoopla
DESCRIPTION:Attention Coaches\, Energy Workers\, Healing Arts Practitioners\,\n\nSalespeople\, Multi-Level Marketers\, and other Heart-Based Entrepreneurs... \n\n\n\nDo you want more clients??? Join us for the Manifesting Clients Hoopla\n\nFriday\, January 24th  1:00pm-4:00pm  in Maitland $45 to RSVP visit https://www.manifestingclientsacademy.com/hoopla/ \n\n\nPre-Register with promo code TWO and save $10 today.
X-ALT-DESC;FMTTYPE=text/html:<h4 style="text-align:center"><strong style="color:rgb(0\, 0\, 0)">Attention Coaches\, Energy Workers\, Healing Arts&nbsp\;</strong><strong style="color:rgb(0\, 0\, 0)">Practitioners</strong><strong style="color:rgb(0\, 0\, 0)">\,<br />\nSalespeople\, Multi-Level Marketers\, and other Heart-Based Entrepreneurs...&nbsp\;</strong></h4>\n\n<h4 style="text-align:center"><br />\n<strong style="color:rgb(0\, 0\, 0)">Do you want more clients??? Join us for the&nbsp\;</strong><span style="color:rgb(0\, 0\, 0)"><strong>Manifesting Clients Hoopla</strong></span></h4>\n\n<p><strong><span style="color:rgb(0\, 0\, 0)"><span style="font-family:avenir-lt-w01_35-light1475496\,sans-serif">Friday\, January 24th&nbsp\;&nbsp\;1:00pm-4:00pm&nbsp\; in Maitland $45 to RSVP visit&nbsp\;</span></span></strong><a href="https://www.manifestingclientsacademy.com/hoopla/">https://www.manifestingclientsacademy.com/hoopla/</a>&nbsp\;</p>\n\n<div style="background:0px 0px\; border:0px\; padding:0px">\n<p style="text-align:center"><span style="color:rgb(1\, 32\, 62)">Pre-Register with promo code&nbsp\;<strong>TWO</strong>&nbsp\;and save $10 today.&nbsp\;</span></p>\n</div>\n\n<div style="background:0px 0px\; border:0px\; padding:0px">\n<p>&nbsp\;</p>\n</div>\n
LOCATION:YOUR INFINITE WELLNESS CENTER
UID:e.1857.5834
SEQUENCE:3
DTSTAMP:20260423T181925Z
URL:https://business.maitlandchamber.com/events/details/manifesting-clients-hoopla-5834
END:VEVENT

END:VCALENDAR
