BEGIN:VCALENDAR
VERSION:2.0
PRODID:-//ChamberMaster//Event Calendar 2.0//EN
METHOD:PUBLISH
X-PUBLISHED-TTL:P3D
REFRESH-INTERVAL:P3D
CALSCALE:GREGORIAN
BEGIN:VEVENT
DTSTART:20190518T103000Z
DTEND:20190518T140000Z
X-MICROSOFT-CDO-ALLDAYEVENT:FALSE
SUMMARY:Maitland Public Library's Annual 5K Run and Walk
DESCRIPTION:Support your local Maitland Public Library at our "Readers on the Run" 5K Run / Walk at Quinn Strong Park in Maitland.\n\nThe 5K Run/Walk will be Chip Timed and starts at 7:30 am sharp!\n\nThe Kids Run for those 10 and Under starts at 8:30 and is FREE! Distance is 100 yards... or meters if you are European!\n\n\n\nParticipants will receive a themed T-shirt AND Medals to all Finishers!\n\nAwards will be presented at 9 a.m. to the Overall Male and Female finisher and the top three in each age bracket. \n\n\n\nRace day Registration and Packet Pick-Up will begin at 6:30am. \n\nFor safety reasons\, bicycles\, wheelchairs\, inline skates\, skateboards and dogs will not be allowed in the race. Jogging strollers are permitted but because they can easily tip on a sharp turn\, stoller participants will start behind the main race and there is a 15 minute per mile pace limit. Stroller / Joggers operators must yield the right of way to runners and may not weave through packs. \n\nFor more information please visit https://www.itsyourrace.com/event.aspx?id=10537\nRegister in person\, by mail (Maitland Public Library Attn: 5K\, 501 S. Maitland Avenue\, Maitland\, FL 32751) or online: https://maitlandpubliclibrary5krunwalk.itsyourrace.com//register
X-ALT-DESC;FMTTYPE=text/html:<div>Support your local Maitland Public Library at our &quot\;Readers on the Run&quot\; 5K Run / Walk at Quinn Strong Park in Maitland.</div>\n\n<div>The 5K Run/Walk will be Chip Timed and starts at 7:30 am sharp!<br />\nThe Kids Run for those 10 and Under starts at 8:30 and is FREE! Distance is 100 yards... or meters if you are European!<br />\n<br />\nParticipants will receive a themed T-shirt AND Medals to all Finishers!<br />\nAwards will be presented at 9 a.m. to the Overall Male and Female finisher and the top three in each age bracket.&nbsp\;<br />\n<br />\nRace day Registration and Packet Pick-Up will begin at 6:30am.&nbsp\;<br />\nFor safety reasons\, bicycles\, wheelchairs\, inline skates\, skateboards and dogs will not be allowed in the race. Jogging strollers are permitted but because they can easily tip on a sharp turn\, stoller participants will start behind the main race and there is a 15 minute per mile pace limit. Stroller / Joggers operators must yield the right of way to runners and may not weave through packs.&nbsp\;<br />\nFor more information please visit&nbsp\;https://www.itsyourrace.com/event.aspx?id=10537</div>\nRegister in person\, by mail (Maitland Public Library Attn: 5K\, 501 S. Maitland Avenue\, Maitland\, FL 32751) or&nbsp\;online: https://maitlandpubliclibrary5krunwalk.itsyourrace.com//register
LOCATION:Quinn Strong Park 345 S. Maitland Avenue Maitland\, FL 32751 United States
UID:e.1857.5201
SEQUENCE:3
DTSTAMP:20260424T063302Z
URL:https://business.maitlandchamber.com/events/details/maitland-public-library-s-annual-5k-run-and-walk-5201
END:VEVENT

END:VCALENDAR
