BEGIN:VCALENDAR
VERSION:2.0
PRODID:-//ChamberMaster//Event Calendar 2.0//EN
METHOD:PUBLISH
X-PUBLISHED-TTL:P3D
REFRESH-INTERVAL:P3D
CALSCALE:GREGORIAN
BEGIN:VEVENT
DTSTART:20191114T230000Z
DTEND:20191115T010000Z
X-MICROSOFT-CDO-ALLDAYEVENT:FALSE
SUMMARY:Lets Talk Wellness! - Halotherapy: Ancient Salt Healing
DESCRIPTION:Join us for our last Lets Talk Wellness of 2019! \n\n\n\nSalt Therapy:\n\nAncient Salt Healing for a Modern World\n\n\n\nHillary Straus will be leading a presentation on Halotherapy\, an ancient holistic practice that is now being recognized as a natural and safe way to find relief from allergies\, colds\, asthma\, skin conditions and more! Join her to learn:\n\n\n\n- What is Salt Therapy\, or aka\, Halotherapy?\n\n- How to best Utilize the innate natural healing properties of salt.\n\n- Top 5 *must have* things to look for in a Salt Therapy provider.\n\n\n\nPlease join us.\n\n\n\nEvening Schedule:\n\n6:00 pm - Check-in begins\n\n6:15 pm - Mindful Moment\n\n6:30 pm - Seminar begins\n\n\n\nwww.maitlandwellnesscenter.com\n\n407 335 4994\n\n\n\nThis is a complimentary event!
X-ALT-DESC;FMTTYPE=text/html:<span style="background-color:rgb(255\, 255\, 255)\; color:rgb(29\, 33\, 41)\; font-family:helvetica\,arial\,sans-serif\; font-size:14px">Join us for our last Lets Talk Wellness of 2019! </span><br />\n<br />\n<span style="background-color:rgb(255\, 255\, 255)\; color:rgb(29\, 33\, 41)\; font-family:helvetica\,arial\,sans-serif\; font-size:14px">Salt Therapy:</span><br />\n<span style="background-color:rgb(255\, 255\, 255)\; color:rgb(29\, 33\, 41)\; font-family:helvetica\,arial\,sans-serif\; font-size:14px">Ancient Salt Healing for a Modern World</span><br />\n<br />\n<span style="background-color:rgb(255\, 255\, 255)\; color:rgb(29\, 33\, 41)\; font-family:helvetica\,arial\,sans-serif\; font-size:14px">Hillary Straus will be leading a presentation on Halotherapy\, an ancient holistic practice that is now being recognized as a natural and safe way to find relief from allergies\, colds\, asthma\, skin conditions and more! Join her to learn:</span><br />\n<br />\n<span style="background-color:rgb(255\, 255\, 255)\; color:rgb(29\, 33\, 41)\; font-family:helvetica\,arial\,sans-serif\; font-size:14px">- What is Salt Therapy\, or aka\, Halotherapy?</span><br />\n<span style="background-color:rgb(255\, 255\, 255)\; color:rgb(29\, 33\, 41)\; font-family:helvetica\,arial\,sans-serif\; font-size:14px">- How to best Utilize the innate natural healing properties of salt.</span><br />\n<span style="background-color:rgb(255\, 255\, 255)\; color:rgb(29\, 33\, 41)\; font-family:helvetica\,arial\,sans-serif\; font-size:14px">- Top 5 *must have* things to look for in a Salt Therapy provider.</span><br />\n<br />\n<span style="background-color:rgb(255\, 255\, 255)\; color:rgb(29\, 33\, 41)\; font-family:helvetica\,arial\,sans-serif\; font-size:14px">Please join us.</span><br />\n<br />\n<span style="background-color:rgb(255\, 255\, 255)\; color:rgb(29\, 33\, 41)\; font-family:helvetica\,arial\,sans-serif\; font-size:14px">Evening Schedule:</span><br />\n<span style="background-color:rgb(255\, 255\, 255)\; color:rgb(29\, 33\, 41)\; font-family:helvetica\,arial\,sans-serif\; font-size:14px">6:00 pm - Check-in begins</span><br />\n<span style="background-color:rgb(255\, 255\, 255)\; color:rgb(29\, 33\, 41)\; font-family:helvetica\,arial\,sans-serif\; font-size:14px">6:15 pm - Mindful Moment</span><br />\n<span style="background-color:rgb(255\, 255\, 255)\; color:rgb(29\, 33\, 41)\; font-family:helvetica\,arial\,sans-serif\; font-size:14px">6:30 pm - Seminar begins</span><br />\n<br />\n<a href="http://www.maitlandwellnesscenter.com/?fbclid=IwAR0g5XOzj6xxEfflcj607vgC4bDhU0LnX_jSLYQiKM2jEPJY7-JI_2a8ML0" rel="nofollow noopener" style="color: rgb(56\, 88\, 152)\; cursor: pointer\; text-decoration-line: none\; font-family: Helvetica\, Arial\, sans-serif\; font-size: 14px\; white-space: pre-wrap\; background-color: rgb(255\, 255\, 255)\;" target="_blank">www.maitlandwellnesscenter.com</a><br />\n<span style="background-color:rgb(255\, 255\, 255)\; color:rgb(29\, 33\, 41)\; font-family:helvetica\,arial\,sans-serif\; font-size:14px">407 335 4994</span><br />\n<br />\n<span style="background-color:rgb(255\, 255\, 255)\; color:rgb(29\, 33\, 41)\; font-family:helvetica\,arial\,sans-serif\; font-size:14px">This is a complimentary event! </span>
LOCATION:237 Lookout Place Maitland FL\, 32751
UID:e.1857.5671
SEQUENCE:3
DTSTAMP:20260423T201002Z
URL:https://business.maitlandchamber.com/events/details/lets-talk-wellness-halotherapy-ancient-salt-healing-5671
END:VEVENT

END:VCALENDAR
