BEGIN:VCALENDAR
VERSION:2.0
PRODID:-//ChamberMaster//Event Calendar 2.0//EN
METHOD:PUBLISH
X-PUBLISHED-TTL:P3D
REFRESH-INTERVAL:P3D
CALSCALE:GREGORIAN
BEGIN:VEVENT
DTSTART:20191204T160000Z
DTEND:20191205T040000Z
X-MICROSOFT-CDO-ALLDAYEVENT:FALSE
SUMMARY:Kids Night
DESCRIPTION:Celebrate Kid's Eat Free Every Wednesday at Duffy's!\n\nFor every adult Entree\, get a kids meal free all day long!\n\nStarting at 6 PM until 8 PM we have lots of fun activities for the kids while dining here at Duffy's!\n\n\nTheme nights! Trivia! Prizes! Arts and Crafts! Movies! Music!\n\nDon't forget it is always Happy Hour at Duffy's\, Serving 2 for 1 drinks All Day Every day!
X-ALT-DESC;FMTTYPE=text/html:<div style="text-align:center"><u><span style="font-family:verdana"><strong><span style="color:#008000">Celebrate Kid's Eat Free Every Wednesday at Duffy's!</span></strong></span></u></div>\n\n<div style="text-align: center\;"><strong>For every adult Entree\, get a kids meal free all day long!<br>\nStarting at 6 PM until 8 PM we have lots of fun activities for the kids while dining here at Duffy's!</strong></div>\n<br>\n<strong><u><span style="color:#009933">Theme nights! Trivia! Prizes! Arts and Crafts! Movies! Music!</span></u></strong>\n\n<div style="text-align: center\;"><em>Don't forget it is always Happy Hour at Duffy's\, Serving 2 for 1 drinks All Day Every day!</em></div>\n<br>\n&nbsp\;
LOCATION:
UID:e.1857.6192
SEQUENCE:3
DTSTAMP:20260423T200547Z
URL:https://business.maitlandchamber.com/events/details/kids-night-12-04-2019-6192
END:VEVENT

END:VCALENDAR
