BEGIN:VCALENDAR
VERSION:2.0
PRODID:-//ChamberMaster//Event Calendar 2.0//EN
METHOD:PUBLISH
X-PUBLISHED-TTL:P3D
REFRESH-INTERVAL:P3D
CALSCALE:GREGORIAN
BEGIN:VEVENT
DTSTART;VALUE=DATE:20190706
DTEND;VALUE=DATE:20190707
TRANSP:TRANSPARENT
X-MICROSOFT-CDO-ALLDAYEVENT:TRUE
SUMMARY:Hello From Heaven
DESCRIPTION:Is there life after death? Do we enter another state of existence after we die? These answers and more will be shared by Bill Guggenheim\, ADC Researcher and Author of "Hello from Heaven". ADC also known as "After Death Communication" is a new field of research which confirms that life and love are eternal. \n\n\n\nThis is a free event and open to the general public.  Seating is limited.  To register\, please email Estrella Tinch - fromgrief2hope@gmail.com. \n\n\n\nThe presentation will be held in the large community room\, Maitland Public Library\, 501 South Maitland Avenue\, Maitland\, Florida. 11 a.m.  - 12:30 p.m.
X-ALT-DESC;FMTTYPE=text/html:<span style="background-color:rgb(255\, 255\, 255)\; color:rgb(29\, 33\, 41)\; font-family:inherit\; font-size:14px">Is there life after death? Do we enter another state of existence after we die? These answers and more will be shared by Bill Guggenheim\, ADC Researcher and Author of &quot\;Hello from Heaven&quot\;. ADC also known as &quot\;After Death Communication&quot\; is a new field of research which confirms that life and love are eternal. </span><br />\n<br />\n<span style="background-color:rgb(255\, 255\, 255)\; color:rgb(29\, 33\, 41)\; font-family:inherit\; font-size:14px">This is a free event and open to the general public.&nbsp\; Seating is limited.&nbsp\; To register\, please email Estrella Tinch - fromgrief2hope@gmail.com.&nbsp\;<br />\n<br />\nThe presentation will be held in the large community room\, Maitland Public Library\, 501 South Maitland Avenue\, Maitland\, Florida. 11 a.m.&nbsp\; - 12:30 p.m.&nbsp\;</span>
LOCATION:
UID:e.1857.5211
SEQUENCE:3
DTSTAMP:20260424T030323Z
URL:https://business.maitlandchamber.com/events/details/hello-from-heaven-5211
END:VEVENT

END:VCALENDAR
