BEGIN:VCALENDAR
VERSION:2.0
PRODID:-//ChamberMaster//Event Calendar 2.0//EN
METHOD:PUBLISH
X-PUBLISHED-TTL:P3D
REFRESH-INTERVAL:P3D
CALSCALE:GREGORIAN
BEGIN:VEVENT
DTSTART:20190208T210000Z
DTEND:20190209T000000Z
X-MICROSOFT-CDO-ALLDAYEVENT:FALSE
SUMMARY:Gratitude Party
DESCRIPTION:Join us for the 2nd Annual Gratitude Party!  We Are So Very Grateful For You! Please join us for an afternoon full of fun and treats in your honor and to properly THANK YOU!\n\n \n\n237 LOOKOUT PLACE  MAITLAND\, FL 32751\n\n\n\nLIVE MUSIC\, ACTIVITIES\, DEMONSTRATIONS\, PRACTIONER MEET & GREET\, GIFTS\, PRIZES\, AND MORE! FRIDAY\, February 8th 4 - 7 pm
X-ALT-DESC;FMTTYPE=text/html:Join us for the 2nd Annual Gratitude Party!&nbsp\; We Are So Very Grateful For You! Please join us for an afternoon full of fun and treats in your honor and to properly THANK YOU!<br />\n&nbsp\;<br />\n237 LOOKOUT PLACE&nbsp\; MAITLAND\, FL 32751<br />\n<br />\nLIVE MUSIC\, ACTIVITIES\, DEMONSTRATIONS\, PRACTIONER MEET &amp\; GREET\, GIFTS\, PRIZES\, AND MORE! <span style="background-color:rgb(255\, 255\, 255)\; color:rgb(51\, 51\, 51)\; font-family:sans-serif\,arial\,verdana\,trebuchet ms\; font-size:13px">FRIDAY\, </span>February 8th 4 - 7 pm
LOCATION:237 Lookout Place Maitland FL 32751
UID:e.1857.4788
SEQUENCE:3
DTSTAMP:20260424T112115Z
URL:https://business.maitlandchamber.com/events/details/gratitude-party-4788
END:VEVENT

END:VCALENDAR
