BEGIN:VCALENDAR
VERSION:2.0
PRODID:-//ChamberMaster//Event Calendar 2.0//EN
METHOD:PUBLISH
X-PUBLISHED-TTL:P3D
REFRESH-INTERVAL:P3D
CALSCALE:GREGORIAN
BEGIN:VEVENT
DTSTART:20200207T210000Z
DTEND:20200208T000000Z
X-MICROSOFT-CDO-ALLDAYEVENT:FALSE
SUMMARY:Gratitude Party 2020 - Maitland Wellness Center
DESCRIPTION:We are so excited to announce the return of our ANNUAL GRATITUDE PARTY! \n\n\n\nPlease join us for an evening of fun and treats in your honor and allow us to properly THANK YOU! Our practitioners and teachers will be here offering demos and samples along with live music\, henna\, snacks\, mini salt sessions and MORE! \n\n\n\nWe are so grateful for FOR YOU and can't wait to celebrate together. \n\n\n\nThis is a free event. \n\n\n\nFriday\, February 7th\, 2020\n\n4:00 pm to 7:00 pm \n\n\n\n237 Lookout Place\n\nMaitland FL\, 32751\n\n\n\nwww.MaitlandWellnessCenter.com
X-ALT-DESC;FMTTYPE=text/html:<span style="color:rgb(29\, 33\, 41)\; font-family:helvetica\,arial\,sans-serif\; font-size:14px">We are so excited to announce the return of our ANNUAL GRATITUDE PARTY! </span><br />\n<br />\n<span style="color:rgb(29\, 33\, 41)\; font-family:helvetica\,arial\,sans-serif\; font-size:14px">Please join us for an evening of fun and treats in your honor and allow us to properly THANK YOU! Our practitioners and teachers will be here offering demos and samples along with live music\, henna\, snacks\, mini salt sessions and MORE! </span><br />\n<br />\n<span style="color:rgb(29\, 33\, 41)\; font-family:helvetica\,arial\,sans-serif\; font-size:14px">We are so grateful for FOR YOU and can&#39\;t wait to celebrate together. </span><br />\n<br />\n<span style="color:rgb(29\, 33\, 41)\; font-family:helvetica\,arial\,sans-serif\; font-size:14px">This is a free event. </span><br />\n<br />\n<span style="color:rgb(29\, 33\, 41)\; font-family:helvetica\,arial\,sans-serif\; font-size:14px">Friday\, February 7th\, 2020</span><br />\n<span style="color:rgb(29\, 33\, 41)\; font-family:helvetica\,arial\,sans-serif\; font-size:14px">4:00 pm to 7:00 pm </span><br />\n<br />\n<span style="color:rgb(29\, 33\, 41)\; font-family:helvetica\,arial\,sans-serif\; font-size:14px">237 Lookout Place</span><br />\n<span style="color:rgb(29\, 33\, 41)\; font-family:helvetica\,arial\,sans-serif\; font-size:14px">Maitland FL\, 32751</span><br />\n<br />\n<a href="https://l.facebook.com/l.php?u=http%3A%2F%2Fwww.MaitlandWellnessCenter.com%2F%3Ffbclid%3DIwAR3jxZb0WPvTVBm9L4Ars8080oaZcVme7ux5rhL7oPGYd6YNGVXIswvUhKM&amp\;h=AT0BFWyiRGsG5OGBaOinOmb14aiteOoQsl3SW2WUgSTxlBoW1Sk5XOZ86_0egJ2XfkeldiqjR6nZT6T11auZcuFvNhaYP3KQ-RTO5_tHoUgaVyAhCprqWGTcJTWUKd9Ltw" rel="nofollow noopener" style="color: rgb(56\, 88\, 152)\; cursor: pointer\; text-decoration-line: none\; font-family: Helvetica\, Arial\, sans-serif\; font-size: 14px\; white-space: pre-wrap\;" target="_blank">www.MaitlandWellnessCenter.com</a>
LOCATION:Maitland Wellness Center 237 Lookout Place Maitland FL\, 32751
UID:e.1857.5829
SEQUENCE:3
DTSTAMP:20260423T144147Z
URL:https://business.maitlandchamber.com/events/details/gratitude-party-2020-maitland-wellness-center-5829
END:VEVENT

END:VCALENDAR
