BEGIN:VCALENDAR
VERSION:2.0
PRODID:-//ChamberMaster//Event Calendar 2.0//EN
METHOD:PUBLISH
X-PUBLISHED-TTL:P3D
REFRESH-INTERVAL:P3D
CALSCALE:GREGORIAN
BEGIN:VEVENT
DTSTART:20190505T113000Z
DTEND:20190505T180000Z
X-MICROSOFT-CDO-ALLDAYEVENT:FALSE
SUMMARY:Golf Tournament for the Orlando Senior Help Desk
DESCRIPTION:Breakfast\, Golf Tournament\, Prizes\, Raffles \, Gourmet lunch
X-ALT-DESC;FMTTYPE=text/html:Breakfast\, Golf Tournament\, Prizes\, Raffles \, Gourmet lunch
LOCATION:Rosen Shingle Creek 9939 Universal Blvd. Orlando\, FL 32819
UID:e.1857.5066
SEQUENCE:3
DTSTAMP:20260424T063509Z
URL:https://business.maitlandchamber.com/events/details/golf-tournament-for-the-orlando-senior-help-desk-5066
END:VEVENT

END:VCALENDAR
