BEGIN:VCALENDAR
VERSION:2.0
PRODID:-//ChamberMaster//Event Calendar 2.0//EN
METHOD:PUBLISH
X-PUBLISHED-TTL:P3D
REFRESH-INTERVAL:P3D
CALSCALE:GREGORIAN
BEGIN:VEVENT
DTSTART:20190207T203000Z
DTEND:20190207T223000Z
X-MICROSOFT-CDO-ALLDAYEVENT:FALSE
SUMMARY:Go Red for Women Happy Hour
DESCRIPTION:Happy Hour to Celebrate Heart Month
X-ALT-DESC;FMTTYPE=text/html:Happy Hour to Celebrate Heart Month
LOCATION:Savannah Court of Maitland\, 1301 W. Maitland Blvd\, Maitland Fl 32751
UID:e.1857.5051
SEQUENCE:3
DTSTAMP:20260424T112349Z
URL:https://business.maitlandchamber.com/events/details/go-red-for-women-happy-hour-5051
END:VEVENT

END:VCALENDAR
